BEGIN:VCALENDAR
VERSION:2.0
PRODID:-//Stad Coevorden - ECPv6.2.9//NONSGML v1.0//EN
CALSCALE:GREGORIAN
METHOD:PUBLISH
X-WR-CALNAME:Stad Coevorden
X-ORIGINAL-URL:https://stadcoevorden.nl
X-WR-CALDESC:Evenementen voor Stad Coevorden
REFRESH-INTERVAL;VALUE=DURATION:PT1H
X-Robots-Tag:noindex
X-PUBLISHED-TTL:PT1H
BEGIN:VTIMEZONE
TZID:Europe/Paris
BEGIN:DAYLIGHT
TZOFFSETFROM:+0100
TZOFFSETTO:+0200
TZNAME:CEST
DTSTART:20220327T010000
END:DAYLIGHT
BEGIN:STANDARD
TZOFFSETFROM:+0200
TZOFFSETTO:+0100
TZNAME:CET
DTSTART:20221030T010000
END:STANDARD
BEGIN:DAYLIGHT
TZOFFSETFROM:+0100
TZOFFSETTO:+0200
TZNAME:CEST
DTSTART:20230326T010000
END:DAYLIGHT
BEGIN:STANDARD
TZOFFSETFROM:+0200
TZOFFSETTO:+0100
TZNAME:CET
DTSTART:20231029T010000
END:STANDARD
END:VTIMEZONE
BEGIN:VEVENT
DTSTART;TZID=Europe/Paris:20221009T103000
DTEND;TZID=Europe/Paris:20230326T180000
DTSTAMP:20260421T201230
CREATED:20221129T064128Z
LAST-MODIFIED:20221129T064128Z
UID:10000603-1665311400-1679853600@stadcoevorden.nl
SUMMARY:‘De Vesting heroverd: 350-jarig ontzet van Coevorden’
DESCRIPTION:Vanaf 8 oktober is de nieuwe tentoonstelling ‘De vesting heroverd!’ te bezoeken. We gaan terug naar 1672. Coevorden werd bezet door de Bischop van Münster\, Bernhard von Galen\, maar ook weer bevrijd. \nHet verhaal over de bevrijding van de stad volgens het slimme plan van Meindert van der Thijnen is vaak verteld\,\nopgevoerd\, beschreven en bezongen. Door biezenmatten over de wakken in het ijs van de vestinggracht te leggen\, konden de soldaten van het leger van Carl Rabenhaupt een verrassingsaanval uitvoeren. De mannen van bisschop Bernhard von Galen uit Münster namen de\nbenen en de Oranjevlag wapperde weer op het kasteel en de kerken. De heldenmoed van burgers en soldaten spreekt nog steeds tot de verbeelding. Bevrijding is immers een thema dat ons in alle tijden raakt. Toen zorgde de overwinning voor nieuwe hoop tijdens het Rampjaar. In de tentoonstelling De vesting heroverd! staan het verloop van de strijd en de bevrijding van Coevorden centraal. De actualiteit raakt aan vragen over het verdedigen van je eigen vrijheid en wat een conflict met een mens doet. Dit is de tweede tentoonstelling van het\ntweeluik over het Rampjaar 1672. Trots is het museum op de originele mortier van Bommen Berend die in bruikleen te zien is. \nDe tentoonstelling is te bezoeken van 9 oktober t/m 26 maart 2023.
URL:https://stadcoevorden.nl/stadsagenda/de-vesting-heroverd-350-jarig-ontzet-van-coevorden/
LOCATION:Stedelijk Museum Coevorden\, Haven 4\, Coevorden\, Drenthe\, 7741JV\, Nederland
ATTACH;FMTTYPE=image/png:https://stadcoevorden.nl/wp-content/uploads/2022/11/Afbeelding-voor-algemeen-beeld.png
ORGANIZER;CN="Stedelijk Museum Coevorden":MAILTO:info@museumcoevorden.nl
END:VEVENT
BEGIN:VEVENT
DTSTART;TZID=Europe/Paris:20230301T140000
DTEND;TZID=Europe/Paris:20230301T150000
DTSTAMP:20260421T201230
CREATED:20230207T085906Z
LAST-MODIFIED:20230207T085906Z
UID:10000587-1677679200-1677682800@stadcoevorden.nl
SUMMARY:Kinderkasteelrondleidingen in de voorjaarsvakantie
DESCRIPTION:We nemen je mee op een spannende ontdekkingstocht door het enige kasteel van Drenthe. Meld je snel aan! \nOnder begeleiding van een enthousiaste museumgids krijgen de kinderen een interactieve rondleiding die tot de verbeelding spreekt. Ze leren over het leven in het kasteel\, een omgeving voor ridders en hofdames. De kinderen lopen mee van de kelders naar de hoge zolder en zullen daar een aantal verhalen te horen krijgen over de geschiedenis van dit indrukwekkende gebouw. \nPraktische info\nEr staan tien rondleidingen gepland:\nZondag 19 februari om 13.00 en 14:30\nWoensdag 22 februari om 13.00 en 14.30\nZondag 26 februari om 13.00 en 14.30\nWoensdag 1 maart om 13.00 en 14.30\nZondag 5 maart om 13.00 en 14:30 \nDeze data zijn onder voorbehoud en afhankelijk van het aantal aanmeldingen. U krijgt tijdig bericht of de rondleiding doorgaat. \nGoed om te weten\nEr zijn een beperkt aantal plaatsen beschikbaar.\nKinderen moeten begeleid worden door een volwassene.\nDe rondleiding is €2\,50 voor kinderen\, de begeleider mag gratis mee.\nNa de rondleiding kun je het museum bezoeken. Hiervoor gelden de reguliere entreeprijzen (kinderen t/m 12 jaar gratis; volwassenen 6 euro). \nVoor aanvang van de rondleiding: we verzamelen bij de informatiebalie in het Arsenaal. Vanaf daar wandelen we gezamenlijk naar het kasteel. \nDe rondleiding is geschikt voor kinderen van 4 t/m 12 jaar. \nPraktische informatie\nDatum: voorjaarsvakantie 2023\nLocatie: Haven 4\,7741 JV Coevorden\nKosten: 2\,50 voor kinderen\, gratis voor begeleiders\nTickets: meld je aan via info@museumcoevorden.nl\nContact: info@museumcoevorden.nl of 088- 012 8315
URL:https://stadcoevorden.nl/stadsagenda/kinderkasteelrondleidingen-in-de-voorjaarsvakantie/2023-03-01/1/
LOCATION:Arsenaal Coevorden\, Haven 4\, Coevorden\, 7741 JV
ATTACH;FMTTYPE=image/jpeg:https://stadcoevorden.nl/wp-content/uploads/2023/02/Kasteel_van_Coevorden-scaled.jpg
ORGANIZER;CN="Stedelijk Museum Coevorden":MAILTO:info@museumcoevorden.nl
END:VEVENT
BEGIN:VEVENT
DTSTART;TZID=Europe/Paris:20230301T153000
DTEND;TZID=Europe/Paris:20230301T163000
DTSTAMP:20260421T201230
CREATED:20230207T085906Z
LAST-MODIFIED:20230207T085906Z
UID:10000588-1677684600-1677688200@stadcoevorden.nl
SUMMARY:Kinderkasteelrondleidingen in de voorjaarsvakantie
DESCRIPTION:We nemen je mee op een spannende ontdekkingstocht door het enige kasteel van Drenthe. Meld je snel aan! \nOnder begeleiding van een enthousiaste museumgids krijgen de kinderen een interactieve rondleiding die tot de verbeelding spreekt. Ze leren over het leven in het kasteel\, een omgeving voor ridders en hofdames. De kinderen lopen mee van de kelders naar de hoge zolder en zullen daar een aantal verhalen te horen krijgen over de geschiedenis van dit indrukwekkende gebouw. \nPraktische info\nEr staan tien rondleidingen gepland:\nZondag 19 februari om 13.00 en 14:30\nWoensdag 22 februari om 13.00 en 14.30\nZondag 26 februari om 13.00 en 14.30\nWoensdag 1 maart om 13.00 en 14.30\nZondag 5 maart om 13.00 en 14:30 \nDeze data zijn onder voorbehoud en afhankelijk van het aantal aanmeldingen. U krijgt tijdig bericht of de rondleiding doorgaat. \nGoed om te weten\nEr zijn een beperkt aantal plaatsen beschikbaar.\nKinderen moeten begeleid worden door een volwassene.\nDe rondleiding is €2\,50 voor kinderen\, de begeleider mag gratis mee.\nNa de rondleiding kun je het museum bezoeken. Hiervoor gelden de reguliere entreeprijzen (kinderen t/m 12 jaar gratis; volwassenen 6 euro). \nVoor aanvang van de rondleiding: we verzamelen bij de informatiebalie in het Arsenaal. Vanaf daar wandelen we gezamenlijk naar het kasteel. \nDe rondleiding is geschikt voor kinderen van 4 t/m 12 jaar. \nPraktische informatie\nDatum: voorjaarsvakantie 2023\nLocatie: Haven 4\,7741 JV Coevorden\nKosten: 2\,50 voor kinderen\, gratis voor begeleiders\nTickets: meld je aan via info@museumcoevorden.nl\nContact: info@museumcoevorden.nl of 088- 012 8315
URL:https://stadcoevorden.nl/stadsagenda/kinderkasteelrondleidingen-in-de-voorjaarsvakantie/2023-03-01/2/
LOCATION:Arsenaal Coevorden\, Haven 4\, Coevorden\, 7741 JV
ATTACH;FMTTYPE=image/jpeg:https://stadcoevorden.nl/wp-content/uploads/2023/02/Kasteel_van_Coevorden-scaled.jpg
ORGANIZER;CN="Stedelijk Museum Coevorden":MAILTO:info@museumcoevorden.nl
END:VEVENT
BEGIN:VEVENT
DTSTART;TZID=Europe/Paris:20230301T153000
DTEND;TZID=Europe/Paris:20230301T163000
DTSTAMP:20260421T201230
CREATED:20230221T174602Z
LAST-MODIFIED:20230221T174602Z
UID:10000570-1677684600-1677688200@stadcoevorden.nl
SUMMARY:KINDERKASTEELRONDLEIDINGEN IN DE VOORJAARSVAKANTIE
DESCRIPTION:We nemen je mee op een spannende ontdekkingstocht door het enige kasteel van Drenthe. Meld je snel aan! \nOnder begeleiding van een enthousiaste museumgids krijgen de kinderen een interactieve rondleiding die tot de verbeelding spreekt. Ze leren over het leven in het kasteel\, een omgeving voor ridders en hofdames. De kinderen lopen mee van de kelders naar de hoge zolder en zullen daar een aantal verhalen te horen krijgen over de geschiedenis van dit indrukwekkende gebouw. \nPraktische info\nEr staan tien rondleidingen gepland:\nZondag 19 februari om 13.00 en 14:30\nWoensdag 22 februari om 13.00 en 14.30\nZondag 26 februari om 13.00 en 14.30\nWoensdag 1 maart om 13.00 en 14.30\nZondag 5 maart om 13.00 en 14:30 \nDeze data zijn onder voorbehoud en afhankelijk van het aantal aanmeldingen. U krijgt tijdig bericht of de rondleiding doorgaat. \nGoed om te weten\nEr zijn een beperkt aantal plaatsen beschikbaar.\nKinderen moeten begeleid worden door een volwassene.\nDe rondleiding is €2\,50 voor kinderen\, de begeleider mag gratis mee.\nNa de rondleiding kun je het museum bezoeken. Hiervoor gelden de reguliere entreeprijzen (kinderen t/m 12 jaar gratis; volwassenen 6 euro). \nVoor aanvang van de rondleiding: we verzamelen bij de informatiebalie in het Arsenaal. Vanaf daar wandelen we gezamenlijk naar het kasteel. \nDe rondleiding is geschikt voor kinderen van 4 t/m 12 jaar. \nPraktische informatie\nDatum: voorjaarsvakantie 2023\nLocatie: Haven 4\,7741 JV Coevorden\nKosten: 2\,50 voor kinderen\, gratis voor begeleiders\nTickets: meld je aan via info@museumcoevorden.nl\nContact: info@museumcoevorden.nl of 088- 012 8315
URL:https://stadcoevorden.nl/stadsagenda/kinderkasteelrondleidingen-in-de-voorjaarsvakantie-3/2023-03-01/
LOCATION:Stedelijk Museum Coevorden\, Haven 4\, Coevorden\, Drenthe\, 7741JV\, Nederland
ATTACH;FMTTYPE=image/jpeg:https://stadcoevorden.nl/wp-content/uploads/2023/02/Kasteel_van_Coevorden-3-scaled.jpg
ORGANIZER;CN="Stedelijk Museum Coevorden":MAILTO:info@museumcoevorden.nl
END:VEVENT
BEGIN:VEVENT
DTSTART;TZID=Europe/Paris:20230301T153000
DTEND;TZID=Europe/Paris:20230301T163000
DTSTAMP:20260421T201230
CREATED:20230221T174617Z
LAST-MODIFIED:20230221T174617Z
UID:10000574-1677684600-1677688200@stadcoevorden.nl
SUMMARY:KINDERKASTEELRONDLEIDINGEN IN DE VOORJAARSVAKANTIE
DESCRIPTION:We nemen je mee op een spannende ontdekkingstocht door het enige kasteel van Drenthe. Meld je snel aan! \nOnder begeleiding van een enthousiaste museumgids krijgen de kinderen een interactieve rondleiding die tot de verbeelding spreekt. Ze leren over het leven in het kasteel\, een omgeving voor ridders en hofdames. De kinderen lopen mee van de kelders naar de hoge zolder en zullen daar een aantal verhalen te horen krijgen over de geschiedenis van dit indrukwekkende gebouw. \nPraktische info\nEr staan tien rondleidingen gepland:\nZondag 19 februari om 13.00 en 14:30 uur\nWoensdag 22 februari om 13.00 en 14.30 uur\nZondag 26 februari om 13.00 en 14.30 uur\nWoensdag 1 maart om 13.00 en 14.30 uur\nZondag 5 maart om 13.00 en 14:30 uur \nDeze data zijn onder voorbehoud en afhankelijk van het aantal aanmeldingen. U krijgt tijdig bericht of de rondleiding doorgaat. \nGoed om te weten\nEr zijn een beperkt aantal plaatsen beschikbaar.\nKinderen moeten begeleid worden door een volwassene.\nDe rondleiding is €2\,50 voor kinderen\, de begeleider mag gratis mee.\nNa de rondleiding kun je het museum bezoeken. Hiervoor gelden de reguliere entreeprijzen (kinderen t/m 12 jaar gratis; volwassenen 6 euro). \nVoor aanvang van de rondleiding: we verzamelen bij de informatiebalie in het Arsenaal. Vanaf daar wandelen we gezamenlijk naar het kasteel. \nDe rondleiding is geschikt voor kinderen van 4 t/m 12 jaar. \nPraktische informatie\nDatum: voorjaarsvakantie 2023\nLocatie: Haven 4\,7741 JV Coevorden\nKosten: 2\,50 voor kinderen\, gratis voor begeleiders\nTickets: meld je aan via info@museumcoevorden.nl\nContact: info@museumcoevorden.nl of 088- 012 8315
URL:https://stadcoevorden.nl/stadsagenda/kinderkasteelrondleidingen-in-de-voorjaarsvakantie-4/2023-03-01/
LOCATION:Stedelijk Museum Coevorden\, Haven 4\, Coevorden\, Drenthe\, 7741JV\, Nederland
ATTACH;FMTTYPE=image/jpeg:https://stadcoevorden.nl/wp-content/uploads/2023/02/Kasteel_van_Coevorden-2-scaled.jpg
ORGANIZER;CN="Stedelijk Museum Coevorden":MAILTO:info@museumcoevorden.nl
END:VEVENT
BEGIN:VEVENT
DTSTART;TZID=Europe/Paris:20230305T140000
DTEND;TZID=Europe/Paris:20230305T150000
DTSTAMP:20260421T201230
CREATED:20230207T085906Z
LAST-MODIFIED:20230207T085906Z
UID:10000589-1678024800-1678028400@stadcoevorden.nl
SUMMARY:Kinderkasteelrondleidingen in de voorjaarsvakantie
DESCRIPTION:We nemen je mee op een spannende ontdekkingstocht door het enige kasteel van Drenthe. Meld je snel aan! \nOnder begeleiding van een enthousiaste museumgids krijgen de kinderen een interactieve rondleiding die tot de verbeelding spreekt. Ze leren over het leven in het kasteel\, een omgeving voor ridders en hofdames. De kinderen lopen mee van de kelders naar de hoge zolder en zullen daar een aantal verhalen te horen krijgen over de geschiedenis van dit indrukwekkende gebouw. \nPraktische info\nEr staan tien rondleidingen gepland:\nZondag 19 februari om 13.00 en 14:30\nWoensdag 22 februari om 13.00 en 14.30\nZondag 26 februari om 13.00 en 14.30\nWoensdag 1 maart om 13.00 en 14.30\nZondag 5 maart om 13.00 en 14:30 \nDeze data zijn onder voorbehoud en afhankelijk van het aantal aanmeldingen. U krijgt tijdig bericht of de rondleiding doorgaat. \nGoed om te weten\nEr zijn een beperkt aantal plaatsen beschikbaar.\nKinderen moeten begeleid worden door een volwassene.\nDe rondleiding is €2\,50 voor kinderen\, de begeleider mag gratis mee.\nNa de rondleiding kun je het museum bezoeken. Hiervoor gelden de reguliere entreeprijzen (kinderen t/m 12 jaar gratis; volwassenen 6 euro). \nVoor aanvang van de rondleiding: we verzamelen bij de informatiebalie in het Arsenaal. Vanaf daar wandelen we gezamenlijk naar het kasteel. \nDe rondleiding is geschikt voor kinderen van 4 t/m 12 jaar. \nPraktische informatie\nDatum: voorjaarsvakantie 2023\nLocatie: Haven 4\,7741 JV Coevorden\nKosten: 2\,50 voor kinderen\, gratis voor begeleiders\nTickets: meld je aan via info@museumcoevorden.nl\nContact: info@museumcoevorden.nl of 088- 012 8315
URL:https://stadcoevorden.nl/stadsagenda/kinderkasteelrondleidingen-in-de-voorjaarsvakantie/2023-03-05/
LOCATION:Arsenaal Coevorden\, Haven 4\, Coevorden\, 7741 JV
ATTACH;FMTTYPE=image/jpeg:https://stadcoevorden.nl/wp-content/uploads/2023/02/Kasteel_van_Coevorden-scaled.jpg
ORGANIZER;CN="Stedelijk Museum Coevorden":MAILTO:info@museumcoevorden.nl
END:VEVENT
BEGIN:VEVENT
DTSTART;TZID=Europe/Paris:20230305T140000
DTEND;TZID=Europe/Paris:20230305T150000
DTSTAMP:20260421T201230
CREATED:20230221T174602Z
LAST-MODIFIED:20230221T174602Z
UID:10000571-1678024800-1678028400@stadcoevorden.nl
SUMMARY:KINDERKASTEELRONDLEIDINGEN IN DE VOORJAARSVAKANTIE
DESCRIPTION:We nemen je mee op een spannende ontdekkingstocht door het enige kasteel van Drenthe. Meld je snel aan! \nOnder begeleiding van een enthousiaste museumgids krijgen de kinderen een interactieve rondleiding die tot de verbeelding spreekt. Ze leren over het leven in het kasteel\, een omgeving voor ridders en hofdames. De kinderen lopen mee van de kelders naar de hoge zolder en zullen daar een aantal verhalen te horen krijgen over de geschiedenis van dit indrukwekkende gebouw. \nPraktische info\nEr staan tien rondleidingen gepland:\nZondag 19 februari om 13.00 en 14:30\nWoensdag 22 februari om 13.00 en 14.30\nZondag 26 februari om 13.00 en 14.30\nWoensdag 1 maart om 13.00 en 14.30\nZondag 5 maart om 13.00 en 14:30 \nDeze data zijn onder voorbehoud en afhankelijk van het aantal aanmeldingen. U krijgt tijdig bericht of de rondleiding doorgaat. \nGoed om te weten\nEr zijn een beperkt aantal plaatsen beschikbaar.\nKinderen moeten begeleid worden door een volwassene.\nDe rondleiding is €2\,50 voor kinderen\, de begeleider mag gratis mee.\nNa de rondleiding kun je het museum bezoeken. Hiervoor gelden de reguliere entreeprijzen (kinderen t/m 12 jaar gratis; volwassenen 6 euro). \nVoor aanvang van de rondleiding: we verzamelen bij de informatiebalie in het Arsenaal. Vanaf daar wandelen we gezamenlijk naar het kasteel. \nDe rondleiding is geschikt voor kinderen van 4 t/m 12 jaar. \nPraktische informatie\nDatum: voorjaarsvakantie 2023\nLocatie: Haven 4\,7741 JV Coevorden\nKosten: 2\,50 voor kinderen\, gratis voor begeleiders\nTickets: meld je aan via info@museumcoevorden.nl\nContact: info@museumcoevorden.nl of 088- 012 8315
URL:https://stadcoevorden.nl/stadsagenda/kinderkasteelrondleidingen-in-de-voorjaarsvakantie-3/2023-03-05/
LOCATION:Stedelijk Museum Coevorden\, Haven 4\, Coevorden\, Drenthe\, 7741JV\, Nederland
ATTACH;FMTTYPE=image/jpeg:https://stadcoevorden.nl/wp-content/uploads/2023/02/Kasteel_van_Coevorden-3-scaled.jpg
ORGANIZER;CN="Stedelijk Museum Coevorden":MAILTO:info@museumcoevorden.nl
END:VEVENT
BEGIN:VEVENT
DTSTART;TZID=Europe/Paris:20230305T140000
DTEND;TZID=Europe/Paris:20230305T150000
DTSTAMP:20260421T201230
CREATED:20230221T174617Z
LAST-MODIFIED:20230221T174617Z
UID:10000575-1678024800-1678028400@stadcoevorden.nl
SUMMARY:KINDERKASTEELRONDLEIDINGEN IN DE VOORJAARSVAKANTIE
DESCRIPTION:We nemen je mee op een spannende ontdekkingstocht door het enige kasteel van Drenthe. Meld je snel aan! \nOnder begeleiding van een enthousiaste museumgids krijgen de kinderen een interactieve rondleiding die tot de verbeelding spreekt. Ze leren over het leven in het kasteel\, een omgeving voor ridders en hofdames. De kinderen lopen mee van de kelders naar de hoge zolder en zullen daar een aantal verhalen te horen krijgen over de geschiedenis van dit indrukwekkende gebouw. \nPraktische info\nEr staan tien rondleidingen gepland:\nZondag 19 februari om 13.00 en 14:30 uur\nWoensdag 22 februari om 13.00 en 14.30 uur\nZondag 26 februari om 13.00 en 14.30 uur\nWoensdag 1 maart om 13.00 en 14.30 uur\nZondag 5 maart om 13.00 en 14:30 uur \nDeze data zijn onder voorbehoud en afhankelijk van het aantal aanmeldingen. U krijgt tijdig bericht of de rondleiding doorgaat. \nGoed om te weten\nEr zijn een beperkt aantal plaatsen beschikbaar.\nKinderen moeten begeleid worden door een volwassene.\nDe rondleiding is €2\,50 voor kinderen\, de begeleider mag gratis mee.\nNa de rondleiding kun je het museum bezoeken. Hiervoor gelden de reguliere entreeprijzen (kinderen t/m 12 jaar gratis; volwassenen 6 euro). \nVoor aanvang van de rondleiding: we verzamelen bij de informatiebalie in het Arsenaal. Vanaf daar wandelen we gezamenlijk naar het kasteel. \nDe rondleiding is geschikt voor kinderen van 4 t/m 12 jaar. \nPraktische informatie\nDatum: voorjaarsvakantie 2023\nLocatie: Haven 4\,7741 JV Coevorden\nKosten: 2\,50 voor kinderen\, gratis voor begeleiders\nTickets: meld je aan via info@museumcoevorden.nl\nContact: info@museumcoevorden.nl of 088- 012 8315
URL:https://stadcoevorden.nl/stadsagenda/kinderkasteelrondleidingen-in-de-voorjaarsvakantie-4/2023-03-05/
LOCATION:Stedelijk Museum Coevorden\, Haven 4\, Coevorden\, Drenthe\, 7741JV\, Nederland
ATTACH;FMTTYPE=image/jpeg:https://stadcoevorden.nl/wp-content/uploads/2023/02/Kasteel_van_Coevorden-2-scaled.jpg
ORGANIZER;CN="Stedelijk Museum Coevorden":MAILTO:info@museumcoevorden.nl
END:VEVENT
BEGIN:VEVENT
DTSTART;TZID=Europe/Paris:20230305T153000
DTEND;TZID=Europe/Paris:20230305T163000
DTSTAMP:20260421T201230
CREATED:20230215T142651Z
LAST-MODIFIED:20230215T142651Z
UID:10000579-1678030200-1678033800@stadcoevorden.nl
SUMMARY:KINDERKASTEELRONDLEIDINGEN IN DE VOORJAARSVAKANTIE
DESCRIPTION:We nemen je mee op een spannende ontdekkingstocht door het enige kasteel van Drenthe. Meld je snel aan! \nOnder begeleiding van een enthousiaste museumgids krijgen de kinderen een interactieve rondleiding die tot de verbeelding spreekt. Ze leren over het leven in het kasteel\, een omgeving voor ridders en hofdames. De kinderen lopen mee van de kelders naar de hoge zolder en krijgen daar een aantal verhalen te horen over de geschiedenis van dit indrukwekkende gebouw. \nPraktische info\nEr staan tien rondleidingen gepland:\nZondag 19 februari om 13.00 en 14:30\nWoensdag 22 februari om 13.00 en 14.30\nZondag 26 februari om 13.00 en 14.30\nWoensdag 1 maart om 13.00 en 14.30\nZondag 5 maart om 13.00 en 14:30 \nDeze data zijn onder voorbehoud en afhankelijk van het aantal aanmeldingen. U krijgt tijdig bericht of de rondleiding doorgaat. \nGoed om te weten\nEr zijn een beperkt aantal plaatsen beschikbaar.\nKinderen moeten begeleid worden door een volwassene.\nDe rondleiding is €2\,50 voor kinderen\, de begeleider mag gratis mee.\nNa de rondleiding kun je het museum bezoeken. Hiervoor gelden de reguliere entreeprijzen (kinderen t/m 12 jaar gratis; volwassenen 6 euro). \nVoor aanvang van de rondleiding: we verzamelen bij de informatiebalie in het Arsenaal. Vanaf daar wandelen we gezamenlijk naar het kasteel. \nDe rondleiding is geschikt voor kinderen van 4 t/m 12 jaar. \nPraktische informatie\nDatum: voorjaarsvakantie 2023\nLocatie: Haven 4\,7741 JV Coevorden\nKosten: 2\,50 voor kinderen\, gratis voor begeleiders\nTickets: meld je aan via info@museumcoevorden.nl\nContact: info@museumcoevorden.nl of 088- 012 8315
URL:https://stadcoevorden.nl/stadsagenda/kinderkasteelrondleidingen-in-de-voorjaarsvakantie-2/2023-03-05/
LOCATION:Arsenaal Coevorden\, Haven 4\, Coevorden\, 7741 JV
ATTACH;FMTTYPE=image/jpeg:https://stadcoevorden.nl/wp-content/uploads/2023/02/Kasteel_van_Coevorden-1-scaled.jpg
ORGANIZER;CN="Stedelijk Museum Coevorden":MAILTO:info@museumcoevorden.nl
END:VEVENT
BEGIN:VEVENT
DTSTART;TZID=Europe/Paris:20230331T093000
DTEND;TZID=Europe/Paris:20230331T170000
DTSTAMP:20260421T201230
CREATED:20230522T131839Z
LAST-MODIFIED:20230522T131839Z
UID:10001134-1680255000-1680282000@stadcoevorden.nl
SUMMARY:Tentoonstelling Ik zie\, ik zie\, wat jij niet ziet
DESCRIPTION:Anno 2023 is het maken van een foto bijna net zo vanzelfsprekend als drinken\, eten en slapen. De meeste mensen hebben tegenwoordig wel een mobiel met camera bij zich. Maar toch is dat niet altijd zo geweest. Fotografie bestaat wereldwijd nauwelijks 200 jaar. In Nederland pas sinds ongeveer 1860. En in Coevorden? Fotografie zette hier voet aan wal in de laatste jaren van de 19e eeuw. Een slordige 125 jaar geleden. \nIn de beginjaren van de fotografie zijn het de rondtrekkende fotografen die Coevorden vastleggen. Vanaf 1900 vestigden zich de eerste zelfstandige fotografen in de stad. In ongeveer dezelfde periode vond ook de ontmanteling van de actieve vesting plaats. Toch bestaan er maar weinig afbeeldingen van de wallen\, de poorten\, de kazernen en vooral de Bentheimerpoort met zijn leeuwenkoppen. Kennelijk hadden de fotografen in die tijd oog voor andere zaken. \nIn de tentoonstelling ‘Ik zie\, ik zie\, wat jij niet ziet’ laten we zien welke ontwikkeling de fotografie in Coevorden heeft doorgemaakt. En laten we zien wie de fotografen waren in de vestingstad. En hoe Coevorden de afgelopen 125 jaar is veranderd. Bij de tentoonstelling is een gratis speurtocht voor kinderen. \nDe tentoonstelling ‘Ik zie\, ik zie\, wat jij niet ziet’ is te bezoeken van 31 maart t/m 24 september 2023.
URL:https://stadcoevorden.nl/stadsagenda/tentoonstelling-ik-zie-ik-zie-wat-jij-niet-ziet-2/2023-03-31/
LOCATION:Stedelijk Museum Coevorden\, Haven 4\, Coevorden\, Drenthe\, 7741JV\, Nederland
ATTACH;FMTTYPE=image/jpeg:https://stadcoevorden.nl/wp-content/uploads/2023/04/Beeldmerk-SMC-Ik-zie-ik-zie-wat-jij-niet-ziet-scaled.jpg
ORGANIZER;CN="Stedelijk Museum Coevorden":MAILTO:info@museumcoevorden.nl
END:VEVENT
END:VCALENDAR