BEGIN:VCALENDAR
VERSION:2.0
PRODID:-//Stad Coevorden - ECPv6.2.9//NONSGML v1.0//EN
CALSCALE:GREGORIAN
METHOD:PUBLISH
X-ORIGINAL-URL:https://stadcoevorden.nl
X-WR-CALDESC:Evenementen voor Stad Coevorden
REFRESH-INTERVAL;VALUE=DURATION:PT1H
X-Robots-Tag:noindex
X-PUBLISHED-TTL:PT1H
BEGIN:VTIMEZONE
TZID:Europe/Paris
BEGIN:DAYLIGHT
TZOFFSETFROM:+0100
TZOFFSETTO:+0200
TZNAME:CEST
DTSTART:20230326T010000
END:DAYLIGHT
BEGIN:STANDARD
TZOFFSETFROM:+0200
TZOFFSETTO:+0100
TZNAME:CET
DTSTART:20231029T010000
END:STANDARD
END:VTIMEZONE
BEGIN:VEVENT
DTSTART;TZID=Europe/Paris:20230305T140000
DTEND;TZID=Europe/Paris:20230305T150000
DTSTAMP:20260420T210217
CREATED:20230221T174617Z
LAST-MODIFIED:20230221T174617Z
UID:10000575-1678024800-1678028400@stadcoevorden.nl
SUMMARY:KINDERKASTEELRONDLEIDINGEN IN DE VOORJAARSVAKANTIE
DESCRIPTION:We nemen je mee op een spannende ontdekkingstocht door het enige kasteel van Drenthe. Meld je snel aan! \nOnder begeleiding van een enthousiaste museumgids krijgen de kinderen een interactieve rondleiding die tot de verbeelding spreekt. Ze leren over het leven in het kasteel\, een omgeving voor ridders en hofdames. De kinderen lopen mee van de kelders naar de hoge zolder en zullen daar een aantal verhalen te horen krijgen over de geschiedenis van dit indrukwekkende gebouw. \nPraktische info\nEr staan tien rondleidingen gepland:\nZondag 19 februari om 13.00 en 14:30 uur\nWoensdag 22 februari om 13.00 en 14.30 uur\nZondag 26 februari om 13.00 en 14.30 uur\nWoensdag 1 maart om 13.00 en 14.30 uur\nZondag 5 maart om 13.00 en 14:30 uur \nDeze data zijn onder voorbehoud en afhankelijk van het aantal aanmeldingen. U krijgt tijdig bericht of de rondleiding doorgaat. \nGoed om te weten\nEr zijn een beperkt aantal plaatsen beschikbaar.\nKinderen moeten begeleid worden door een volwassene.\nDe rondleiding is €2\,50 voor kinderen\, de begeleider mag gratis mee.\nNa de rondleiding kun je het museum bezoeken. Hiervoor gelden de reguliere entreeprijzen (kinderen t/m 12 jaar gratis; volwassenen 6 euro). \nVoor aanvang van de rondleiding: we verzamelen bij de informatiebalie in het Arsenaal. Vanaf daar wandelen we gezamenlijk naar het kasteel. \nDe rondleiding is geschikt voor kinderen van 4 t/m 12 jaar. \nPraktische informatie\nDatum: voorjaarsvakantie 2023\nLocatie: Haven 4\,7741 JV Coevorden\nKosten: 2\,50 voor kinderen\, gratis voor begeleiders\nTickets: meld je aan via info@museumcoevorden.nl\nContact: info@museumcoevorden.nl of 088- 012 8315
URL:https://stadcoevorden.nl/stadsagenda/kinderkasteelrondleidingen-in-de-voorjaarsvakantie-4/2023-03-05/
LOCATION:Stedelijk Museum Coevorden\, Haven 4\, Coevorden\, Drenthe\, 7741JV\, Nederland
ATTACH;FMTTYPE=image/jpeg:https://stadcoevorden.nl/wp-content/uploads/2023/02/Kasteel_van_Coevorden-2-scaled.jpg
ORGANIZER;CN="Stedelijk Museum Coevorden":MAILTO:info@museumcoevorden.nl
END:VEVENT
BEGIN:VEVENT
DTSTART;TZID=Europe/Paris:20230305T140000
DTEND;TZID=Europe/Paris:20230305T150000
DTSTAMP:20260420T210217
CREATED:20230221T174602Z
LAST-MODIFIED:20230221T174602Z
UID:10000571-1678024800-1678028400@stadcoevorden.nl
SUMMARY:KINDERKASTEELRONDLEIDINGEN IN DE VOORJAARSVAKANTIE
DESCRIPTION:We nemen je mee op een spannende ontdekkingstocht door het enige kasteel van Drenthe. Meld je snel aan! \nOnder begeleiding van een enthousiaste museumgids krijgen de kinderen een interactieve rondleiding die tot de verbeelding spreekt. Ze leren over het leven in het kasteel\, een omgeving voor ridders en hofdames. De kinderen lopen mee van de kelders naar de hoge zolder en zullen daar een aantal verhalen te horen krijgen over de geschiedenis van dit indrukwekkende gebouw. \nPraktische info\nEr staan tien rondleidingen gepland:\nZondag 19 februari om 13.00 en 14:30\nWoensdag 22 februari om 13.00 en 14.30\nZondag 26 februari om 13.00 en 14.30\nWoensdag 1 maart om 13.00 en 14.30\nZondag 5 maart om 13.00 en 14:30 \nDeze data zijn onder voorbehoud en afhankelijk van het aantal aanmeldingen. U krijgt tijdig bericht of de rondleiding doorgaat. \nGoed om te weten\nEr zijn een beperkt aantal plaatsen beschikbaar.\nKinderen moeten begeleid worden door een volwassene.\nDe rondleiding is €2\,50 voor kinderen\, de begeleider mag gratis mee.\nNa de rondleiding kun je het museum bezoeken. Hiervoor gelden de reguliere entreeprijzen (kinderen t/m 12 jaar gratis; volwassenen 6 euro). \nVoor aanvang van de rondleiding: we verzamelen bij de informatiebalie in het Arsenaal. Vanaf daar wandelen we gezamenlijk naar het kasteel. \nDe rondleiding is geschikt voor kinderen van 4 t/m 12 jaar. \nPraktische informatie\nDatum: voorjaarsvakantie 2023\nLocatie: Haven 4\,7741 JV Coevorden\nKosten: 2\,50 voor kinderen\, gratis voor begeleiders\nTickets: meld je aan via info@museumcoevorden.nl\nContact: info@museumcoevorden.nl of 088- 012 8315
URL:https://stadcoevorden.nl/stadsagenda/kinderkasteelrondleidingen-in-de-voorjaarsvakantie-3/2023-03-05/
LOCATION:Stedelijk Museum Coevorden\, Haven 4\, Coevorden\, Drenthe\, 7741JV\, Nederland
ATTACH;FMTTYPE=image/jpeg:https://stadcoevorden.nl/wp-content/uploads/2023/02/Kasteel_van_Coevorden-3-scaled.jpg
ORGANIZER;CN="Stedelijk Museum Coevorden":MAILTO:info@museumcoevorden.nl
END:VEVENT
BEGIN:VEVENT
DTSTART;TZID=Europe/Paris:20230617T150000
DTEND;TZID=Europe/Paris:20230617T163000
DTSTAMP:20260420T210217
CREATED:20230524T124126Z
LAST-MODIFIED:20230524T124126Z
UID:10001302-1687014000-1687019400@stadcoevorden.nl
SUMMARY:Fotografieworkshop
DESCRIPTION:Stel je eens voor… je bent bij je neef op bezoek. Eén van zijn buurmeisjes komt langs en vraagt waar je woont. Je vertelt dat je uit Coevorden komt\, maar het buurmeisje heeft hier nog nooit van gehoord. Ze vraagt of je een foto van de stad hebt. Wat zou jij haar van Coevorden laten zien? \nGa met een Polaroidcamera de stad in en maak je eigen ansichtkaart van Coevorden. Je begint met het onderwerp: wat wil jij op jouw ansichtkaart van Coevorden laten zien? Vervolgens leer je over compositie: hoe zou je dat op de foto zetten? \nAan het eind van de workshop krijgt jouw foto een plekje in het museum. \nPraktische informatie:\nZaterdag 17 juni van 15.00-16.30 uur\nLocatie: Stedelijk Museum Coevorden (Haven 4\, 7741 JV Coevorden)\nGratis\, wel aanmelden via 0524-525150\nVoor jong en oud (vanaf 13 jaar)\nErvaring met fotografie is niet nodig\, maar mag natuurlijk wel! \nOver workshopleider Melanie Banis\n• Beeldend kunstenaar\n• Ervaring met uiteenlopende doelgroepen met verschillende leeftijden en achtergronden \n“Ik denk dat het een leuke ontmoeting wordt tussen verschillende mensen die een gemene deler hebben\, namelijk fotografie en Coevorden.”
URL:https://stadcoevorden.nl/stadsagenda/fotografieworkshop/
LOCATION:Stedelijk Museum Coevorden\, Haven 4\, Coevorden\, Drenthe\, 7741JV\, Nederland
ATTACH;FMTTYPE=image/jpeg:https://stadcoevorden.nl/wp-content/uploads/2023/05/Fotografieworkshop-17-juni.jpg
ORGANIZER;CN="Stedelijk Museum Coevorden":MAILTO:info@museumcoevorden.nl
END:VEVENT
END:VCALENDAR