BEGIN:VCALENDAR
VERSION:2.0
PRODID:-//Stad Coevorden - ECPv6.2.9//NONSGML v1.0//EN
CALSCALE:GREGORIAN
METHOD:PUBLISH
X-WR-CALNAME:Stad Coevorden
X-ORIGINAL-URL:https://stadcoevorden.nl
X-WR-CALDESC:Evenementen voor Stad Coevorden
REFRESH-INTERVAL;VALUE=DURATION:PT1H
X-Robots-Tag:noindex
X-PUBLISHED-TTL:PT1H
BEGIN:VTIMEZONE
TZID:Europe/Paris
BEGIN:DAYLIGHT
TZOFFSETFROM:+0100
TZOFFSETTO:+0200
TZNAME:CEST
DTSTART:20230326T010000
END:DAYLIGHT
BEGIN:STANDARD
TZOFFSETFROM:+0200
TZOFFSETTO:+0100
TZNAME:CET
DTSTART:20231029T010000
END:STANDARD
END:VTIMEZONE
BEGIN:VEVENT
DTSTART;TZID=Europe/Paris:20230219T140000
DTEND;TZID=Europe/Paris:20230219T150000
DTSTAMP:20260423T151513
CREATED:20230207T085906Z
LAST-MODIFIED:20230207T085906Z
UID:10000581-1676815200-1676818800@stadcoevorden.nl
SUMMARY:Kinderkasteelrondleidingen in de voorjaarsvakantie
DESCRIPTION:We nemen je mee op een spannende ontdekkingstocht door het enige kasteel van Drenthe. Meld je snel aan! \nOnder begeleiding van een enthousiaste museumgids krijgen de kinderen een interactieve rondleiding die tot de verbeelding spreekt. Ze leren over het leven in het kasteel\, een omgeving voor ridders en hofdames. De kinderen lopen mee van de kelders naar de hoge zolder en zullen daar een aantal verhalen te horen krijgen over de geschiedenis van dit indrukwekkende gebouw. \nPraktische info\nEr staan tien rondleidingen gepland:\nZondag 19 februari om 13.00 en 14:30\nWoensdag 22 februari om 13.00 en 14.30\nZondag 26 februari om 13.00 en 14.30\nWoensdag 1 maart om 13.00 en 14.30\nZondag 5 maart om 13.00 en 14:30 \nDeze data zijn onder voorbehoud en afhankelijk van het aantal aanmeldingen. U krijgt tijdig bericht of de rondleiding doorgaat. \nGoed om te weten\nEr zijn een beperkt aantal plaatsen beschikbaar.\nKinderen moeten begeleid worden door een volwassene.\nDe rondleiding is €2\,50 voor kinderen\, de begeleider mag gratis mee.\nNa de rondleiding kun je het museum bezoeken. Hiervoor gelden de reguliere entreeprijzen (kinderen t/m 12 jaar gratis; volwassenen 6 euro). \nVoor aanvang van de rondleiding: we verzamelen bij de informatiebalie in het Arsenaal. Vanaf daar wandelen we gezamenlijk naar het kasteel. \nDe rondleiding is geschikt voor kinderen van 4 t/m 12 jaar. \nPraktische informatie\nDatum: voorjaarsvakantie 2023\nLocatie: Haven 4\,7741 JV Coevorden\nKosten: 2\,50 voor kinderen\, gratis voor begeleiders\nTickets: meld je aan via info@museumcoevorden.nl\nContact: info@museumcoevorden.nl of 088- 012 8315
URL:https://stadcoevorden.nl/stadsagenda/kinderkasteelrondleidingen-in-de-voorjaarsvakantie/2023-02-19/1/
LOCATION:Arsenaal Coevorden\, Haven 4\, Coevorden\, 7741 JV
ATTACH;FMTTYPE=image/jpeg:https://stadcoevorden.nl/wp-content/uploads/2023/02/Kasteel_van_Coevorden-scaled.jpg
ORGANIZER;CN="Stedelijk Museum Coevorden":MAILTO:info@museumcoevorden.nl
END:VEVENT
BEGIN:VEVENT
DTSTART;TZID=Europe/Paris:20230219T153000
DTEND;TZID=Europe/Paris:20230219T163000
DTSTAMP:20260423T151513
CREATED:20230207T085906Z
LAST-MODIFIED:20230207T085906Z
UID:10000582-1676820600-1676824200@stadcoevorden.nl
SUMMARY:Kinderkasteelrondleidingen in de voorjaarsvakantie
DESCRIPTION:We nemen je mee op een spannende ontdekkingstocht door het enige kasteel van Drenthe. Meld je snel aan! \nOnder begeleiding van een enthousiaste museumgids krijgen de kinderen een interactieve rondleiding die tot de verbeelding spreekt. Ze leren over het leven in het kasteel\, een omgeving voor ridders en hofdames. De kinderen lopen mee van de kelders naar de hoge zolder en zullen daar een aantal verhalen te horen krijgen over de geschiedenis van dit indrukwekkende gebouw. \nPraktische info\nEr staan tien rondleidingen gepland:\nZondag 19 februari om 13.00 en 14:30\nWoensdag 22 februari om 13.00 en 14.30\nZondag 26 februari om 13.00 en 14.30\nWoensdag 1 maart om 13.00 en 14.30\nZondag 5 maart om 13.00 en 14:30 \nDeze data zijn onder voorbehoud en afhankelijk van het aantal aanmeldingen. U krijgt tijdig bericht of de rondleiding doorgaat. \nGoed om te weten\nEr zijn een beperkt aantal plaatsen beschikbaar.\nKinderen moeten begeleid worden door een volwassene.\nDe rondleiding is €2\,50 voor kinderen\, de begeleider mag gratis mee.\nNa de rondleiding kun je het museum bezoeken. Hiervoor gelden de reguliere entreeprijzen (kinderen t/m 12 jaar gratis; volwassenen 6 euro). \nVoor aanvang van de rondleiding: we verzamelen bij de informatiebalie in het Arsenaal. Vanaf daar wandelen we gezamenlijk naar het kasteel. \nDe rondleiding is geschikt voor kinderen van 4 t/m 12 jaar. \nPraktische informatie\nDatum: voorjaarsvakantie 2023\nLocatie: Haven 4\,7741 JV Coevorden\nKosten: 2\,50 voor kinderen\, gratis voor begeleiders\nTickets: meld je aan via info@museumcoevorden.nl\nContact: info@museumcoevorden.nl of 088- 012 8315
URL:https://stadcoevorden.nl/stadsagenda/kinderkasteelrondleidingen-in-de-voorjaarsvakantie/2023-02-19/2/
LOCATION:Arsenaal Coevorden\, Haven 4\, Coevorden\, 7741 JV
ATTACH;FMTTYPE=image/jpeg:https://stadcoevorden.nl/wp-content/uploads/2023/02/Kasteel_van_Coevorden-scaled.jpg
ORGANIZER;CN="Stedelijk Museum Coevorden":MAILTO:info@museumcoevorden.nl
END:VEVENT
BEGIN:VEVENT
DTSTART;TZID=Europe/Paris:20230222T140000
DTEND;TZID=Europe/Paris:20230222T150000
DTSTAMP:20260423T151513
CREATED:20230207T085906Z
LAST-MODIFIED:20230207T085906Z
UID:10000583-1677074400-1677078000@stadcoevorden.nl
SUMMARY:Kinderkasteelrondleidingen in de voorjaarsvakantie
DESCRIPTION:We nemen je mee op een spannende ontdekkingstocht door het enige kasteel van Drenthe. Meld je snel aan! \nOnder begeleiding van een enthousiaste museumgids krijgen de kinderen een interactieve rondleiding die tot de verbeelding spreekt. Ze leren over het leven in het kasteel\, een omgeving voor ridders en hofdames. De kinderen lopen mee van de kelders naar de hoge zolder en zullen daar een aantal verhalen te horen krijgen over de geschiedenis van dit indrukwekkende gebouw. \nPraktische info\nEr staan tien rondleidingen gepland:\nZondag 19 februari om 13.00 en 14:30\nWoensdag 22 februari om 13.00 en 14.30\nZondag 26 februari om 13.00 en 14.30\nWoensdag 1 maart om 13.00 en 14.30\nZondag 5 maart om 13.00 en 14:30 \nDeze data zijn onder voorbehoud en afhankelijk van het aantal aanmeldingen. U krijgt tijdig bericht of de rondleiding doorgaat. \nGoed om te weten\nEr zijn een beperkt aantal plaatsen beschikbaar.\nKinderen moeten begeleid worden door een volwassene.\nDe rondleiding is €2\,50 voor kinderen\, de begeleider mag gratis mee.\nNa de rondleiding kun je het museum bezoeken. Hiervoor gelden de reguliere entreeprijzen (kinderen t/m 12 jaar gratis; volwassenen 6 euro). \nVoor aanvang van de rondleiding: we verzamelen bij de informatiebalie in het Arsenaal. Vanaf daar wandelen we gezamenlijk naar het kasteel. \nDe rondleiding is geschikt voor kinderen van 4 t/m 12 jaar. \nPraktische informatie\nDatum: voorjaarsvakantie 2023\nLocatie: Haven 4\,7741 JV Coevorden\nKosten: 2\,50 voor kinderen\, gratis voor begeleiders\nTickets: meld je aan via info@museumcoevorden.nl\nContact: info@museumcoevorden.nl of 088- 012 8315
URL:https://stadcoevorden.nl/stadsagenda/kinderkasteelrondleidingen-in-de-voorjaarsvakantie/2023-02-22/1/
LOCATION:Arsenaal Coevorden\, Haven 4\, Coevorden\, 7741 JV
ATTACH;FMTTYPE=image/jpeg:https://stadcoevorden.nl/wp-content/uploads/2023/02/Kasteel_van_Coevorden-scaled.jpg
ORGANIZER;CN="Stedelijk Museum Coevorden":MAILTO:info@museumcoevorden.nl
END:VEVENT
BEGIN:VEVENT
DTSTART;TZID=Europe/Paris:20230222T153000
DTEND;TZID=Europe/Paris:20230222T163000
DTSTAMP:20260423T151513
CREATED:20230207T085906Z
LAST-MODIFIED:20230207T085906Z
UID:10000584-1677079800-1677083400@stadcoevorden.nl
SUMMARY:Kinderkasteelrondleidingen in de voorjaarsvakantie
DESCRIPTION:We nemen je mee op een spannende ontdekkingstocht door het enige kasteel van Drenthe. Meld je snel aan! \nOnder begeleiding van een enthousiaste museumgids krijgen de kinderen een interactieve rondleiding die tot de verbeelding spreekt. Ze leren over het leven in het kasteel\, een omgeving voor ridders en hofdames. De kinderen lopen mee van de kelders naar de hoge zolder en zullen daar een aantal verhalen te horen krijgen over de geschiedenis van dit indrukwekkende gebouw. \nPraktische info\nEr staan tien rondleidingen gepland:\nZondag 19 februari om 13.00 en 14:30\nWoensdag 22 februari om 13.00 en 14.30\nZondag 26 februari om 13.00 en 14.30\nWoensdag 1 maart om 13.00 en 14.30\nZondag 5 maart om 13.00 en 14:30 \nDeze data zijn onder voorbehoud en afhankelijk van het aantal aanmeldingen. U krijgt tijdig bericht of de rondleiding doorgaat. \nGoed om te weten\nEr zijn een beperkt aantal plaatsen beschikbaar.\nKinderen moeten begeleid worden door een volwassene.\nDe rondleiding is €2\,50 voor kinderen\, de begeleider mag gratis mee.\nNa de rondleiding kun je het museum bezoeken. Hiervoor gelden de reguliere entreeprijzen (kinderen t/m 12 jaar gratis; volwassenen 6 euro). \nVoor aanvang van de rondleiding: we verzamelen bij de informatiebalie in het Arsenaal. Vanaf daar wandelen we gezamenlijk naar het kasteel. \nDe rondleiding is geschikt voor kinderen van 4 t/m 12 jaar. \nPraktische informatie\nDatum: voorjaarsvakantie 2023\nLocatie: Haven 4\,7741 JV Coevorden\nKosten: 2\,50 voor kinderen\, gratis voor begeleiders\nTickets: meld je aan via info@museumcoevorden.nl\nContact: info@museumcoevorden.nl of 088- 012 8315
URL:https://stadcoevorden.nl/stadsagenda/kinderkasteelrondleidingen-in-de-voorjaarsvakantie/2023-02-22/2/
LOCATION:Arsenaal Coevorden\, Haven 4\, Coevorden\, 7741 JV
ATTACH;FMTTYPE=image/jpeg:https://stadcoevorden.nl/wp-content/uploads/2023/02/Kasteel_van_Coevorden-scaled.jpg
ORGANIZER;CN="Stedelijk Museum Coevorden":MAILTO:info@museumcoevorden.nl
END:VEVENT
BEGIN:VEVENT
DTSTART;TZID=Europe/Paris:20230226T140000
DTEND;TZID=Europe/Paris:20230226T150000
DTSTAMP:20260423T151513
CREATED:20230207T085906Z
LAST-MODIFIED:20230207T085906Z
UID:10000585-1677420000-1677423600@stadcoevorden.nl
SUMMARY:Kinderkasteelrondleidingen in de voorjaarsvakantie
DESCRIPTION:We nemen je mee op een spannende ontdekkingstocht door het enige kasteel van Drenthe. Meld je snel aan! \nOnder begeleiding van een enthousiaste museumgids krijgen de kinderen een interactieve rondleiding die tot de verbeelding spreekt. Ze leren over het leven in het kasteel\, een omgeving voor ridders en hofdames. De kinderen lopen mee van de kelders naar de hoge zolder en zullen daar een aantal verhalen te horen krijgen over de geschiedenis van dit indrukwekkende gebouw. \nPraktische info\nEr staan tien rondleidingen gepland:\nZondag 19 februari om 13.00 en 14:30\nWoensdag 22 februari om 13.00 en 14.30\nZondag 26 februari om 13.00 en 14.30\nWoensdag 1 maart om 13.00 en 14.30\nZondag 5 maart om 13.00 en 14:30 \nDeze data zijn onder voorbehoud en afhankelijk van het aantal aanmeldingen. U krijgt tijdig bericht of de rondleiding doorgaat. \nGoed om te weten\nEr zijn een beperkt aantal plaatsen beschikbaar.\nKinderen moeten begeleid worden door een volwassene.\nDe rondleiding is €2\,50 voor kinderen\, de begeleider mag gratis mee.\nNa de rondleiding kun je het museum bezoeken. Hiervoor gelden de reguliere entreeprijzen (kinderen t/m 12 jaar gratis; volwassenen 6 euro). \nVoor aanvang van de rondleiding: we verzamelen bij de informatiebalie in het Arsenaal. Vanaf daar wandelen we gezamenlijk naar het kasteel. \nDe rondleiding is geschikt voor kinderen van 4 t/m 12 jaar. \nPraktische informatie\nDatum: voorjaarsvakantie 2023\nLocatie: Haven 4\,7741 JV Coevorden\nKosten: 2\,50 voor kinderen\, gratis voor begeleiders\nTickets: meld je aan via info@museumcoevorden.nl\nContact: info@museumcoevorden.nl of 088- 012 8315
URL:https://stadcoevorden.nl/stadsagenda/kinderkasteelrondleidingen-in-de-voorjaarsvakantie/2023-02-26/1/
LOCATION:Arsenaal Coevorden\, Haven 4\, Coevorden\, 7741 JV
ATTACH;FMTTYPE=image/jpeg:https://stadcoevorden.nl/wp-content/uploads/2023/02/Kasteel_van_Coevorden-scaled.jpg
ORGANIZER;CN="Stedelijk Museum Coevorden":MAILTO:info@museumcoevorden.nl
END:VEVENT
BEGIN:VEVENT
DTSTART;TZID=Europe/Paris:20230226T153000
DTEND;TZID=Europe/Paris:20230226T163000
DTSTAMP:20260423T151513
CREATED:20230207T085906Z
LAST-MODIFIED:20230207T085906Z
UID:10000586-1677425400-1677429000@stadcoevorden.nl
SUMMARY:Kinderkasteelrondleidingen in de voorjaarsvakantie
DESCRIPTION:We nemen je mee op een spannende ontdekkingstocht door het enige kasteel van Drenthe. Meld je snel aan! \nOnder begeleiding van een enthousiaste museumgids krijgen de kinderen een interactieve rondleiding die tot de verbeelding spreekt. Ze leren over het leven in het kasteel\, een omgeving voor ridders en hofdames. De kinderen lopen mee van de kelders naar de hoge zolder en zullen daar een aantal verhalen te horen krijgen over de geschiedenis van dit indrukwekkende gebouw. \nPraktische info\nEr staan tien rondleidingen gepland:\nZondag 19 februari om 13.00 en 14:30\nWoensdag 22 februari om 13.00 en 14.30\nZondag 26 februari om 13.00 en 14.30\nWoensdag 1 maart om 13.00 en 14.30\nZondag 5 maart om 13.00 en 14:30 \nDeze data zijn onder voorbehoud en afhankelijk van het aantal aanmeldingen. U krijgt tijdig bericht of de rondleiding doorgaat. \nGoed om te weten\nEr zijn een beperkt aantal plaatsen beschikbaar.\nKinderen moeten begeleid worden door een volwassene.\nDe rondleiding is €2\,50 voor kinderen\, de begeleider mag gratis mee.\nNa de rondleiding kun je het museum bezoeken. Hiervoor gelden de reguliere entreeprijzen (kinderen t/m 12 jaar gratis; volwassenen 6 euro). \nVoor aanvang van de rondleiding: we verzamelen bij de informatiebalie in het Arsenaal. Vanaf daar wandelen we gezamenlijk naar het kasteel. \nDe rondleiding is geschikt voor kinderen van 4 t/m 12 jaar. \nPraktische informatie\nDatum: voorjaarsvakantie 2023\nLocatie: Haven 4\,7741 JV Coevorden\nKosten: 2\,50 voor kinderen\, gratis voor begeleiders\nTickets: meld je aan via info@museumcoevorden.nl\nContact: info@museumcoevorden.nl of 088- 012 8315
URL:https://stadcoevorden.nl/stadsagenda/kinderkasteelrondleidingen-in-de-voorjaarsvakantie/2023-02-26/2/
LOCATION:Arsenaal Coevorden\, Haven 4\, Coevorden\, 7741 JV
ATTACH;FMTTYPE=image/jpeg:https://stadcoevorden.nl/wp-content/uploads/2023/02/Kasteel_van_Coevorden-scaled.jpg
ORGANIZER;CN="Stedelijk Museum Coevorden":MAILTO:info@museumcoevorden.nl
END:VEVENT
END:VCALENDAR