BEGIN:VCALENDAR
VERSION:2.0
PRODID:-//Stad Coevorden - ECPv6.2.9//NONSGML v1.0//EN
CALSCALE:GREGORIAN
METHOD:PUBLISH
X-ORIGINAL-URL:https://stadcoevorden.nl
X-WR-CALDESC:Evenementen voor Stad Coevorden
REFRESH-INTERVAL;VALUE=DURATION:PT1H
X-Robots-Tag:noindex
X-PUBLISHED-TTL:PT1H
BEGIN:VTIMEZONE
TZID:Europe/Paris
BEGIN:DAYLIGHT
TZOFFSETFROM:+0100
TZOFFSETTO:+0200
TZNAME:CEST
DTSTART:20210328T010000
END:DAYLIGHT
BEGIN:STANDARD
TZOFFSETFROM:+0200
TZOFFSETTO:+0100
TZNAME:CET
DTSTART:20211031T010000
END:STANDARD
BEGIN:DAYLIGHT
TZOFFSETFROM:+0100
TZOFFSETTO:+0200
TZNAME:CEST
DTSTART:20220327T010000
END:DAYLIGHT
BEGIN:STANDARD
TZOFFSETFROM:+0200
TZOFFSETTO:+0100
TZNAME:CET
DTSTART:20221030T010000
END:STANDARD
END:VTIMEZONE
BEGIN:VEVENT
DTSTART;VALUE=DATE:20210912
DTEND;VALUE=DATE:20220329
DTSTAMP:20260423T235641
CREATED:20220126T173301Z
LAST-MODIFIED:20220126T173301Z
UID:10000607-1631408400-1648429199@stadcoevorden.nl
SUMMARY:Tentoonstelling "SMALT-Podagristen"
DESCRIPTION:SMALT- Podagristen’ is een tentoonstelling die een andere kijk biedt op een stukje geschiedenis van Coevorden\, Zuidoost-Drenthe\, Nordhorn en Graafschap Bentheim. Door het verhaal van De Drie Podagristen tegenover hedendaagse kunst te plaatsen als een reactie op dit verhaal\, wordt er op een vernieuwende manier naar de geschiedenis van deze plaatsen gekeken. Het biedt ruimte voor vragen over De Drie Podagristen: wie waren deze drie anonieme\, nieuwsgierige reizigers\, die hun reisverslag publiceerden onder de titel ‘Drenthe in vlugtige en losse omtrekken geschetst door drie Podagristen’? \nVoor de tentoonstelling ‘SMALT-Podagristen’ hebben tien kunstenaars die in verschillende disciplines werken (onder andere schilderkunst\, grafiek\, beeldhouwkunst\, installatie en fotografie) van kunstcollectief SMALT\, speciaal voor deze tentoonstelling nieuw werk gemaakt. De kunstenaars lieten zich inspireren door de Podagristen\, de route die zij aflegden en het verhaal dat zij hierover beschreven. Een originele druk uit 1843 van de publicatie ‘Drenthe in vlugtige en losse omtrekken geschetst door drie Podagristen’ is te zien in de tentoonstelling in Coevorden. \nDe Drie Podagristen\nDrie intellectuele\, kunst- en cultuurminnende mannen vormden rond 1840 een groep die zich De Drie Podagristen noemden: Alexander Lesturgeon\, Harm Boom en uitgever Dubbeld Hemsing van der Scheer. Woonachtig in het Zuidoosten van Drenthe maakten zij van daaruit vele wandelingen en zwerftochten\, langs allerlei dorpen en steden waaronder Coevorden en Nordhorn. In Bad Bentheim zochten zij verlichting voor hun jicht (podagra in het Latijn) in het heilzame water\, vervolgens liepen ze weer 75 km terug. Onderweg verzamelden de Podagristen “in vluchtige schetsen en schertsen”\, anekdotes over zowel grasmussen als vestingsteden en zetten deze om in één van de eerste Drentse reisboeken. \nHet Stedelijk Museum Coevorden heeft contact gezocht met Stadmuseum Nordhorn om samen met de kunstenaars dit tentoonstellingsproject op te pakken. Het heeft geresulteerd in een tweetalige tentoonstelling met verschillende nieuwe kunstwerken die te zien zijn in beide musea. Deze tentoonstelling bestaat dan ook uit twee delen: deel één is te zien in Coevorden\, deel twee in Nordhorn. De tentoonstelling is vanaf 12 september te zien in Stedelijk Museum Coevorden en vanaf 14 september is de tentoonstelling ook in Stadtmuseum Nordhorn te zien. \nAchterin de tentoonstellingsgids is een routekaart van het Podagristenpad met daarin verwijzingen naar de kunstwerken en de bijbehorende omgeving. Het is ook mogelijk om (een deel van) het Podagristenpad te lopen. De tentoonstelling loopt tot en met 27 maart 2022.
URL:https://stadcoevorden.nl/stadsagenda/tentoonstelling-smalt-podagristen/
LOCATION:Stedelijk Museum Coevorden\, Haven 4\, Coevorden\, Drenthe\, 7741JV\, Nederland
ATTACH;FMTTYPE=image/jpeg:https://stadcoevorden.nl/wp-content/uploads/2022/01/SMALT-Podagristen_POSTER_A0-lowres-1.jpg
END:VEVENT
END:VCALENDAR