BEGIN:VCALENDAR
VERSION:2.0
PRODID:-//Stad Coevorden - ECPv6.2.9//NONSGML v1.0//EN
CALSCALE:GREGORIAN
METHOD:PUBLISH
X-WR-CALNAME:Stad Coevorden
X-ORIGINAL-URL:https://stadcoevorden.nl
X-WR-CALDESC:Evenementen voor Stad Coevorden
REFRESH-INTERVAL;VALUE=DURATION:PT1H
X-Robots-Tag:noindex
X-PUBLISHED-TTL:PT1H
BEGIN:VTIMEZONE
TZID:Europe/Paris
BEGIN:DAYLIGHT
TZOFFSETFROM:+0100
TZOFFSETTO:+0200
TZNAME:CEST
DTSTART:20220327T010000
END:DAYLIGHT
BEGIN:STANDARD
TZOFFSETFROM:+0200
TZOFFSETTO:+0100
TZNAME:CET
DTSTART:20221030T010000
END:STANDARD
END:VTIMEZONE
BEGIN:VEVENT
DTSTART;TZID=Europe/Paris:20220409T103000
DTEND;TZID=Europe/Paris:20220925T180000
DTSTAMP:20260423T140340
CREATED:20220824T073306Z
LAST-MODIFIED:20220824T073306Z
UID:10000901-1649500200-1664128800@stadcoevorden.nl
SUMMARY:Tentoonstelling 'Helden van Coevorden'
DESCRIPTION:Maak kennis met de (on)bekende Helden van Coevorden: Meijndert van der Thijnen en Carl Rabenhaupt. In tegenstelling tot militair commandant Carl Rabenhaupt\, is Meijndert van der Thijnen als schoolmeester en koster van Coevorden relatief onbekend. En dat terwijl deze slimme schoolmeester en koster een belangrijke rol speelde bij de bevrijding van Coevorden in het rampjaar (1672). \nCoevorden was destijds (in 1672) in handen van de Bisschop van Münster (ook bekend als Bommen Berend). De bisschop werd ‘Bommen Berend’ genoemd omdat hij Coevorden aanviel met een nieuw soort brandbommen. Binnen korte tijd kon de bisschop op deze manier Coevorden in zijn macht krijgen. Dankzij een slimme list\, bedacht door Meijndert van der Thijnen\, kon het leger van Carl Rabenhaupt de stad Coevorden binnen korte tijd weer veroveren. Doordat Meijndert ‘slechts’ schoolmeester en koster was\, is zijn sleutelrol binnen het ontzet van Coevorden niet of nauwelijks benoemd in boeken. \nDe tentoonstelling is een ode aan deze bijzondere man – en vele andere (Coevordense) Helden. Daarnaast stellen we in de tentoonstelling een vraag aan iedere bezoeker: wie is jouw held?
URL:https://stadcoevorden.nl/stadsagenda/tentoonstelling-helden-van-coevorden/
LOCATION:Stedelijk Museum Coevorden\, Haven 4\, Coevorden\, Drenthe\, 7741JV\, Nederland
ATTACH;FMTTYPE=image/png:https://stadcoevorden.nl/wp-content/uploads/2022/07/Helden-van-Coevorden-tm-25-september-2022.png
ORGANIZER;CN="Stedelijk Museum Coevorden":MAILTO:info@museumcoevorden.nl
END:VEVENT
END:VCALENDAR