BEGIN:VCALENDAR
VERSION:2.0
PRODID:-//Stad Coevorden - ECPv6.2.9//NONSGML v1.0//EN
CALSCALE:GREGORIAN
METHOD:PUBLISH
X-WR-CALNAME:Stad Coevorden
X-ORIGINAL-URL:https://stadcoevorden.nl
X-WR-CALDESC:Evenementen voor Stad Coevorden
REFRESH-INTERVAL;VALUE=DURATION:PT1H
X-Robots-Tag:noindex
X-PUBLISHED-TTL:PT1H
BEGIN:VTIMEZONE
TZID:Europe/Paris
BEGIN:DAYLIGHT
TZOFFSETFROM:+0100
TZOFFSETTO:+0200
TZNAME:CEST
DTSTART:20220327T010000
END:DAYLIGHT
BEGIN:STANDARD
TZOFFSETFROM:+0200
TZOFFSETTO:+0100
TZNAME:CET
DTSTART:20221030T010000
END:STANDARD
END:VTIMEZONE
BEGIN:VEVENT
DTSTART;TZID=Europe/Paris:20220409T103000
DTEND;TZID=Europe/Paris:20220925T180000
DTSTAMP:20260424T020357
CREATED:20220824T073306Z
LAST-MODIFIED:20220824T073306Z
UID:10000901-1649500200-1664128800@stadcoevorden.nl
SUMMARY:Tentoonstelling 'Helden van Coevorden'
DESCRIPTION:Maak kennis met de (on)bekende Helden van Coevorden: Meijndert van der Thijnen en Carl Rabenhaupt. In tegenstelling tot militair commandant Carl Rabenhaupt\, is Meijndert van der Thijnen als schoolmeester en koster van Coevorden relatief onbekend. En dat terwijl deze slimme schoolmeester en koster een belangrijke rol speelde bij de bevrijding van Coevorden in het rampjaar (1672). \nCoevorden was destijds (in 1672) in handen van de Bisschop van Münster (ook bekend als Bommen Berend). De bisschop werd ‘Bommen Berend’ genoemd omdat hij Coevorden aanviel met een nieuw soort brandbommen. Binnen korte tijd kon de bisschop op deze manier Coevorden in zijn macht krijgen. Dankzij een slimme list\, bedacht door Meijndert van der Thijnen\, kon het leger van Carl Rabenhaupt de stad Coevorden binnen korte tijd weer veroveren. Doordat Meijndert ‘slechts’ schoolmeester en koster was\, is zijn sleutelrol binnen het ontzet van Coevorden niet of nauwelijks benoemd in boeken. \nDe tentoonstelling is een ode aan deze bijzondere man – en vele andere (Coevordense) Helden. Daarnaast stellen we in de tentoonstelling een vraag aan iedere bezoeker: wie is jouw held?
URL:https://stadcoevorden.nl/stadsagenda/tentoonstelling-helden-van-coevorden/
LOCATION:Stedelijk Museum Coevorden\, Haven 4\, Coevorden\, Drenthe\, 7741JV\, Nederland
ATTACH;FMTTYPE=image/png:https://stadcoevorden.nl/wp-content/uploads/2022/07/Helden-van-Coevorden-tm-25-september-2022.png
ORGANIZER;CN="Stedelijk Museum Coevorden":MAILTO:info@museumcoevorden.nl
END:VEVENT
BEGIN:VEVENT
DTSTART;TZID=Europe/Paris:20220716T090000
DTEND;TZID=Europe/Paris:20220716T180000
DTSTAMP:20260424T020357
CREATED:20220507T121216Z
LAST-MODIFIED:20220507T121311Z
UID:10000614-1657962000-1657994400@stadcoevorden.nl
SUMMARY:Zeemanskorenfestival + Braderie
DESCRIPTION:• SOKKENBUURT ZEEMANSKOOR– UGCHELEN\n• STORMVOGELS – EMMEN\n• DE RUNDEZANGERS – EMMERCOMPASCUUM\n• DE STUWZANGERS – VILSTEREN\n• BIJ NACHT EN ONTIJ – ASSEN\n• DE SCHEEPSJOAGERS – MUNTENDAM\n• SJOMPIEZANGERS – GRAMSBERGEN\n• DE NOABERZANGERS – NIEUW AMSTERDAM
URL:https://stadcoevorden.nl/stadsagenda/zeemanskorenfestival-braderie/
LOCATION:Markt\, Markt\, Coevorden\, Drenthe\, 7741 JM\, Nederland
ATTACH;FMTTYPE=image/jpeg:https://stadcoevorden.nl/wp-content/uploads/2021/04/Ganzen-Geesje-Coevorden-scaled.jpg
END:VEVENT
BEGIN:VEVENT
DTSTART;TZID=Europe/Paris:20220717T150000
DTEND;TZID=Europe/Paris:20220717T160000
DTSTAMP:20260424T020357
CREATED:20220726T082954Z
LAST-MODIFIED:20220726T082954Z
UID:10000902-1658070000-1658073600@stadcoevorden.nl
SUMMARY:Rondleidingen in het kasteel voor kinderen
DESCRIPTION:Op ontdekkingsreis door het enige kasteel van Drenthe: doe mee met de kasteelrondleidingen van Stedelijk Museum Coevorden. \nStedelijk Museum Coevorden organiseert in de maand juli weer rondleidingen in het kasteel van Coevorden.\nOnder begeleiding van een enthousiaste ridder óf jonkvrouw (museumdocent) leren deelnemers meer over de geschiedenis van het Kasteel. In Coevorden staat namelijk het enige kasteel dat vandaag de dag nog te vinden is in de provincie Drenthe. Een uniek gebouw\, een kasteel met een roerig verleden. We nemen je mee door de ridderzaal\, de blauwe torenkamer én ook lopen we door de oude gevangenis…ontdek de geheimen van Coevorden op deze spannende reis door de geschiedenis! \nOverzicht\nEen rondleiding duurt ongeveer een uur. \nZondag 17 juli\, rondleiding voor kinderen. Start om 14.00 uur\nZondag 24 juli\, rondleiding voor kinderen. Start om 14.00 uur \nAanmelden\nAanmelden voor de rondleiding op 17 juli kan t/m woensdag 13 juli.\nAanmelden voor de rondleiding op 24 juli kan t/m woensdag 27 juli. \nAanmelden kan door te mailen naar info@museumcoevorden.nl. Let op: geef in uw mail de datum\, het tijdstip en het aantal personen waarmee u wilt deelnemen door. Let op: dit is nog geen bevestiging dat u mee kunt doen aan de rondleiding. U ontvangt van ons een bericht met daarin de officiële bevestiging. \nDeelname\nDeelname voor kinderen bedraagt 2\,50 euro per kind (voor kinderen tot en met 12 jaar). Volwassenen betalen 4\,50 euro per persoon. Betalen kan bij aanvang in het Arsenaal\, zowel contant als met pin.\nHet startpunt is het Arsenaal (Stedelijk Museum Coevorden\, Haven 4\, 7741 JV te Coevorden). We verzamelen een kwartier voordat de rondleiding begint. \nLet op: er zijn een beperkt aantal plaatsen beschikbaar en kinderen onder 12 jaar dienen begeleid te worden door minimaal één volwassene (persoon van 18 jaar of ouder). Per rondleiding kunnen maximaal 25 deelnemers mee. Vol = vol.
URL:https://stadcoevorden.nl/stadsagenda/rondleidingen-in-het-kasteel-voor-kinderen/
LOCATION:Arsenaal Coevorden\, Haven 4\, Coevorden\, 7741 JV
ATTACH;FMTTYPE=image/png:https://stadcoevorden.nl/wp-content/uploads/2022/07/rondleidingen-in-het-kasteel.png
ORGANIZER;CN="Stedelijk Museum Coevorden":MAILTO:info@museumcoevorden.nl
END:VEVENT
END:VCALENDAR