BEGIN:VCALENDAR
VERSION:2.0
PRODID:-//Stad Coevorden - ECPv6.2.9//NONSGML v1.0//EN
CALSCALE:GREGORIAN
METHOD:PUBLISH
X-WR-CALNAME:Stad Coevorden
X-ORIGINAL-URL:https://stadcoevorden.nl
X-WR-CALDESC:Evenementen voor Stad Coevorden
REFRESH-INTERVAL;VALUE=DURATION:PT1H
X-Robots-Tag:noindex
X-PUBLISHED-TTL:PT1H
BEGIN:VTIMEZONE
TZID:Europe/Paris
BEGIN:DAYLIGHT
TZOFFSETFROM:+0100
TZOFFSETTO:+0200
TZNAME:CEST
DTSTART:20220327T010000
END:DAYLIGHT
BEGIN:STANDARD
TZOFFSETFROM:+0200
TZOFFSETTO:+0100
TZNAME:CET
DTSTART:20221030T010000
END:STANDARD
BEGIN:DAYLIGHT
TZOFFSETFROM:+0100
TZOFFSETTO:+0200
TZNAME:CEST
DTSTART:20230326T010000
END:DAYLIGHT
BEGIN:STANDARD
TZOFFSETFROM:+0200
TZOFFSETTO:+0100
TZNAME:CET
DTSTART:20231029T010000
END:STANDARD
END:VTIMEZONE
BEGIN:VEVENT
DTSTART;TZID=Europe/Paris:20221009T103000
DTEND;TZID=Europe/Paris:20230326T180000
DTSTAMP:20260423T002230
CREATED:20221129T064128Z
LAST-MODIFIED:20221129T064128Z
UID:10000603-1665311400-1679853600@stadcoevorden.nl
SUMMARY:‘De Vesting heroverd: 350-jarig ontzet van Coevorden’
DESCRIPTION:Vanaf 8 oktober is de nieuwe tentoonstelling ‘De vesting heroverd!’ te bezoeken. We gaan terug naar 1672. Coevorden werd bezet door de Bischop van Münster\, Bernhard von Galen\, maar ook weer bevrijd. \nHet verhaal over de bevrijding van de stad volgens het slimme plan van Meindert van der Thijnen is vaak verteld\,\nopgevoerd\, beschreven en bezongen. Door biezenmatten over de wakken in het ijs van de vestinggracht te leggen\, konden de soldaten van het leger van Carl Rabenhaupt een verrassingsaanval uitvoeren. De mannen van bisschop Bernhard von Galen uit Münster namen de\nbenen en de Oranjevlag wapperde weer op het kasteel en de kerken. De heldenmoed van burgers en soldaten spreekt nog steeds tot de verbeelding. Bevrijding is immers een thema dat ons in alle tijden raakt. Toen zorgde de overwinning voor nieuwe hoop tijdens het Rampjaar. In de tentoonstelling De vesting heroverd! staan het verloop van de strijd en de bevrijding van Coevorden centraal. De actualiteit raakt aan vragen over het verdedigen van je eigen vrijheid en wat een conflict met een mens doet. Dit is de tweede tentoonstelling van het\ntweeluik over het Rampjaar 1672. Trots is het museum op de originele mortier van Bommen Berend die in bruikleen te zien is. \nDe tentoonstelling is te bezoeken van 9 oktober t/m 26 maart 2023.
URL:https://stadcoevorden.nl/stadsagenda/de-vesting-heroverd-350-jarig-ontzet-van-coevorden/
LOCATION:Stedelijk Museum Coevorden\, Haven 4\, Coevorden\, Drenthe\, 7741JV\, Nederland
ATTACH;FMTTYPE=image/png:https://stadcoevorden.nl/wp-content/uploads/2022/11/Afbeelding-voor-algemeen-beeld.png
ORGANIZER;CN="Stedelijk Museum Coevorden":MAILTO:info@museumcoevorden.nl
END:VEVENT
BEGIN:VEVENT
DTSTART;TZID=Europe/Paris:20221203T160000
DTEND;TZID=Europe/Paris:20230207T180000
DTSTAMP:20260423T002230
CREATED:20221126T102045Z
LAST-MODIFIED:20221126T102045Z
UID:10000903-1670083200-1675792800@stadcoevorden.nl
SUMMARY:Souvenir
DESCRIPTION:Nieuw werk van 40 kunstenaars uit de gemeente Coevorden\nGalerie Kunst op Vijf | Sallandsestraat 5 + 7 Coevorden\nopen donderdag t/m zaterdag | 13.00 tot 17.00 uur
URL:https://stadcoevorden.nl/stadsagenda/souvenir/
LOCATION:Kunst Op Vijf\, Sallandsestraat 5\, Coevorden\, Drenthe\, 7741 HL
ATTACH;FMTTYPE=image/jpeg:https://stadcoevorden.nl/wp-content/uploads/2022/11/Flyer-tentoonstelling-Souvenir-1.jpg
ORGANIZER;CN="Coevorder Kunstenaars Collectief":MAILTO:kunstontmoet@gmail.com
END:VEVENT
BEGIN:VEVENT
DTSTART;TZID=Europe/Paris:20221207T211500
DTEND;TZID=Europe/Paris:20221207T230000
DTSTAMP:20260423T002230
CREATED:20221201T065647Z
LAST-MODIFIED:20221201T065647Z
UID:10000600-1670447700-1670454000@stadcoevorden.nl
SUMMARY:Theaterspektakel 'Het Ontzet van Coevorden'
DESCRIPTION:Op 3\, 7\, 9 en 11 december wordt de musical ‘het ontzet van Coevorden’ uitgevoerd\, met in de hoofdrollen René van Kooten\, Raymond Kurvers en Robin van den Heuvel. Verder een cast van zo’n twintig lokale en regionale acteurs in een voorstelling die is geschreven door Dick van den Heuvel\, en gecomponeerd door Fons Merkies en Jeroen Sleyfer.\nHet is niet alleen het verhaal van driehonderdvijftig jaar geleden toen Coevorden werd ingenomen door een gruwelijke bezetter uit het Oosten. Het zijn vooral de geschiedenissen van mensen die ineens worden geconfronteerd met overheersing\, geweld en oorlog.
URL:https://stadcoevorden.nl/stadsagenda/theaterspektakel-het-ontzet-van-coevorden/2022-12-07/
LOCATION:Grote Kerk aan de Kerkstraat in Coevorden
ATTACH;FMTTYPE=image/jpeg:https://stadcoevorden.nl/wp-content/uploads/2022/11/home-bg-slideshow1.jpg
END:VEVENT
BEGIN:VEVENT
DTSTART;TZID=Europe/Paris:20221209T211500
DTEND;TZID=Europe/Paris:20221209T230000
DTSTAMP:20260423T002230
CREATED:20221201T065647Z
LAST-MODIFIED:20221201T065647Z
UID:10000601-1670620500-1670626800@stadcoevorden.nl
SUMMARY:Theaterspektakel 'Het Ontzet van Coevorden'
DESCRIPTION:Op 3\, 7\, 9 en 11 december wordt de musical ‘het ontzet van Coevorden’ uitgevoerd\, met in de hoofdrollen René van Kooten\, Raymond Kurvers en Robin van den Heuvel. Verder een cast van zo’n twintig lokale en regionale acteurs in een voorstelling die is geschreven door Dick van den Heuvel\, en gecomponeerd door Fons Merkies en Jeroen Sleyfer.\nHet is niet alleen het verhaal van driehonderdvijftig jaar geleden toen Coevorden werd ingenomen door een gruwelijke bezetter uit het Oosten. Het zijn vooral de geschiedenissen van mensen die ineens worden geconfronteerd met overheersing\, geweld en oorlog.
URL:https://stadcoevorden.nl/stadsagenda/theaterspektakel-het-ontzet-van-coevorden/2022-12-09/
LOCATION:Grote Kerk aan de Kerkstraat in Coevorden
ATTACH;FMTTYPE=image/jpeg:https://stadcoevorden.nl/wp-content/uploads/2022/11/home-bg-slideshow1.jpg
END:VEVENT
BEGIN:VEVENT
DTSTART;TZID=Europe/Paris:20221211T140000
DTEND;TZID=Europe/Paris:20221211T163000
DTSTAMP:20260423T002230
CREATED:20221206T121520Z
LAST-MODIFIED:20221206T121520Z
UID:10000598-1670767200-1670776200@stadcoevorden.nl
SUMMARY:Kinderkasteelrondleiding + bezoek museum
DESCRIPTION:Ontdek de geheimen van het Kasteel in Coevorden! We nemen je mee op een spannende ontdekkingstocht. \nMeld je snel aan. \nOnder begeleiding van een enthousiaste museumgids krijgen de kinderen een interactieve rondleiding die tot de verbeelding spreekt. Ze leren over het leven in het kasteel\, een omgeving voor ridders en hofdames. De kinderen lopen mee van de kelders naar de hoge zolder en zullen daar een aantal verhalen te horen krijgen over de geschiedenis van dit indrukwekkende gebouw. \nPraktische info\nEr staan twee rondleidingen gepland op zondag 11 december: om 13.00 uur en om 14.30 uur. \nDeze datum is onder voorbehoud en afhankelijk van het aantal aanmeldingen. U krijgt tijdig bericht of de rondleiding doorgaat. \nGoed om te weten\n– Er zijn een beperkt aantal plaatsen beschikbaar.\n– Kinderen zijn gratis\, maar moeten wel begeleid worden door een volwassene.\n– De rondleidingen zijn gratis voor kinderen en €5\,00 voor volwassenen (dit is inclusief een toegangskaart voor het museum).\n– Voor aanvang van de rondleiding: verzamelen bij de informatie balie in het Arsenaal. Vanaf daar wandelen we gezamenlijk naar het kasteel.\n– De rondleiding is geschikt voor kinderen van 4 t/m 12 jaar en duurt ongeveer een uur. Daarna kun je op eigen gelegenheid het museum bezoeken. \nPraktische informatie\n– Datum: 11 dec 2022\n– Locatie: Haven 4\,7741 JV Coevorden\n– Kosten: Gratis voor kinderen\, ouders 5\,00\n– Tickets: meld je aan via info@museumcoevorden.nl\n– Contact: info@museumcoevorden.nl of 088- 012 8315
URL:https://stadcoevorden.nl/stadsagenda/kinderkasteelrondleiding-bezoek-museum-2/
LOCATION:Arsenaal Coevorden\, Haven 4\, Coevorden\, 7741 JV
ATTACH;FMTTYPE=image/png:https://stadcoevorden.nl/wp-content/uploads/2022/12/rondleidingen-in-het-kasteel-1-1000x800-1.png
ORGANIZER;CN="Stedelijk Museum Coevorden":MAILTO:info@museumcoevorden.nl
END:VEVENT
BEGIN:VEVENT
DTSTART;TZID=Europe/Paris:20221211T140000
DTEND;TZID=Europe/Paris:20221211T173000
DTSTAMP:20260423T002230
CREATED:20221206T115722Z
LAST-MODIFIED:20221206T115722Z
UID:10000597-1670767200-1670779800@stadcoevorden.nl
SUMMARY:Kinderkasteelrondleiding + bezoek museum
DESCRIPTION:Ontdek de geheimen van het Kasteel in Coevorden! We nemen je mee op een spannende ontdekkingstocht. \nMeld je snel aan. \nOnder begeleiding van een enthousiaste museumgids krijgen de kinderen een interactieve rondleiding die tot de verbeelding spreekt. Ze leren over het leven in het kasteel\, een omgeving voor ridders en hofdames. De kinderen lopen mee van de kelders naar de hoge zolder en zullen daar een aantal verhalen te horen krijgen over de geschiedenis van dit indrukwekkende gebouw. \nPraktische info\nEr staan twee rondleidingen gepland op zondag 11 december: om 13.00 uur en om 14.30 uur. \nDeze datum is onder voorbehoud en afhankelijk van het aantal aanmeldingen. U krijgt tijdig bericht of de rondleiding doorgaat. \nGoed om te weten\n– Er zijn een beperkt aantal plaatsen beschikbaar.\n– Kinderen zijn gratis\, maar moeten wel begeleid worden door een volwassene.\n– De rondleidingen zijn gratis voor kinderen en €5\,00 voor volwassenen (dit is inclusief een toegangskaart voor het museum).\n– Voor aanvang van de rondleiding: verzamelen bij de informatie balie in het Arsenaal. Vanaf daar wandelen we gezamenlijk naar het kasteel.\n– De rondleiding is geschikt voor kinderen van 4 t/m 12 jaar en duurt ongeveer een uur. Daarna kun je op eigen gelegenheid het museum bezoeken. \nPraktische informatie\n– Datum: 11 dec 2022\n– Locatie: Haven 4\,7741 JV Coevorden\n– Kosten: Gratis voor kinderen\, ouders 5\,00\n– Tickets: meld je aan via info@museumcoevorden.nl\n– Contact: info@museumcoevorden.nl of 088- 012 8315
URL:https://stadcoevorden.nl/stadsagenda/kinderkasteelrondleiding-bezoek-museum/
LOCATION:Arsenaal Coevorden\, Haven 4\, Coevorden\, 7741 JV
ATTACH;FMTTYPE=image/png:https://stadcoevorden.nl/wp-content/uploads/2022/12/rondleidingen-in-het-kasteel-1-1000x800-2.png
ORGANIZER;CN="Stedelijk Museum Coevorden":MAILTO:info@museumcoevorden.nl
END:VEVENT
BEGIN:VEVENT
DTSTART;TZID=Europe/Paris:20221211T211500
DTEND;TZID=Europe/Paris:20221211T230000
DTSTAMP:20260423T002230
CREATED:20221201T065647Z
LAST-MODIFIED:20221201T065647Z
UID:10000602-1670793300-1670799600@stadcoevorden.nl
SUMMARY:Theaterspektakel 'Het Ontzet van Coevorden'
DESCRIPTION:Op 3\, 7\, 9 en 11 december wordt de musical ‘het ontzet van Coevorden’ uitgevoerd\, met in de hoofdrollen René van Kooten\, Raymond Kurvers en Robin van den Heuvel. Verder een cast van zo’n twintig lokale en regionale acteurs in een voorstelling die is geschreven door Dick van den Heuvel\, en gecomponeerd door Fons Merkies en Jeroen Sleyfer.\nHet is niet alleen het verhaal van driehonderdvijftig jaar geleden toen Coevorden werd ingenomen door een gruwelijke bezetter uit het Oosten. Het zijn vooral de geschiedenissen van mensen die ineens worden geconfronteerd met overheersing\, geweld en oorlog.
URL:https://stadcoevorden.nl/stadsagenda/theaterspektakel-het-ontzet-van-coevorden/2022-12-11/
LOCATION:Grote Kerk aan de Kerkstraat in Coevorden
ATTACH;FMTTYPE=image/jpeg:https://stadcoevorden.nl/wp-content/uploads/2022/11/home-bg-slideshow1.jpg
END:VEVENT
END:VCALENDAR