BEGIN:VCALENDAR
VERSION:2.0
PRODID:-//Stad Coevorden - ECPv6.2.9//NONSGML v1.0//EN
CALSCALE:GREGORIAN
METHOD:PUBLISH
X-ORIGINAL-URL:https://stadcoevorden.nl
X-WR-CALDESC:Evenementen voor Stad Coevorden
REFRESH-INTERVAL;VALUE=DURATION:PT1H
X-Robots-Tag:noindex
X-PUBLISHED-TTL:PT1H
BEGIN:VTIMEZONE
TZID:Europe/Paris
BEGIN:DAYLIGHT
TZOFFSETFROM:+0100
TZOFFSETTO:+0200
TZNAME:CEST
DTSTART:20230326T010000
END:DAYLIGHT
BEGIN:STANDARD
TZOFFSETFROM:+0200
TZOFFSETTO:+0100
TZNAME:CET
DTSTART:20231029T010000
END:STANDARD
END:VTIMEZONE
BEGIN:VEVENT
DTSTART;TZID=Europe/Paris:20230411T093000
DTEND;TZID=Europe/Paris:20230411T170000
DTSTAMP:20260422T005605
CREATED:20230522T131839Z
LAST-MODIFIED:20230522T131839Z
UID:10001141-1681205400-1681232400@stadcoevorden.nl
SUMMARY:Tentoonstelling Ik zie\, ik zie\, wat jij niet ziet
DESCRIPTION:Anno 2023 is het maken van een foto bijna net zo vanzelfsprekend als drinken\, eten en slapen. De meeste mensen hebben tegenwoordig wel een mobiel met camera bij zich. Maar toch is dat niet altijd zo geweest. Fotografie bestaat wereldwijd nauwelijks 200 jaar. In Nederland pas sinds ongeveer 1860. En in Coevorden? Fotografie zette hier voet aan wal in de laatste jaren van de 19e eeuw. Een slordige 125 jaar geleden. \nIn de beginjaren van de fotografie zijn het de rondtrekkende fotografen die Coevorden vastleggen. Vanaf 1900 vestigden zich de eerste zelfstandige fotografen in de stad. In ongeveer dezelfde periode vond ook de ontmanteling van de actieve vesting plaats. Toch bestaan er maar weinig afbeeldingen van de wallen\, de poorten\, de kazernen en vooral de Bentheimerpoort met zijn leeuwenkoppen. Kennelijk hadden de fotografen in die tijd oog voor andere zaken. \nIn de tentoonstelling ‘Ik zie\, ik zie\, wat jij niet ziet’ laten we zien welke ontwikkeling de fotografie in Coevorden heeft doorgemaakt. En laten we zien wie de fotografen waren in de vestingstad. En hoe Coevorden de afgelopen 125 jaar is veranderd. Bij de tentoonstelling is een gratis speurtocht voor kinderen. \nDe tentoonstelling ‘Ik zie\, ik zie\, wat jij niet ziet’ is te bezoeken van 31 maart t/m 24 september 2023.
URL:https://stadcoevorden.nl/stadsagenda/tentoonstelling-ik-zie-ik-zie-wat-jij-niet-ziet-2/2023-04-11/
LOCATION:Stedelijk Museum Coevorden\, Haven 4\, Coevorden\, Drenthe\, 7741JV\, Nederland
ATTACH;FMTTYPE=image/jpeg:https://stadcoevorden.nl/wp-content/uploads/2023/04/Beeldmerk-SMC-Ik-zie-ik-zie-wat-jij-niet-ziet-scaled.jpg
ORGANIZER;CN="Stedelijk Museum Coevorden":MAILTO:info@museumcoevorden.nl
END:VEVENT
BEGIN:VEVENT
DTSTART;TZID=Europe/Paris:20230412T093000
DTEND;TZID=Europe/Paris:20230412T170000
DTSTAMP:20260422T005605
CREATED:20230522T131839Z
LAST-MODIFIED:20230522T131839Z
UID:10001142-1681291800-1681318800@stadcoevorden.nl
SUMMARY:Tentoonstelling Ik zie\, ik zie\, wat jij niet ziet
DESCRIPTION:Anno 2023 is het maken van een foto bijna net zo vanzelfsprekend als drinken\, eten en slapen. De meeste mensen hebben tegenwoordig wel een mobiel met camera bij zich. Maar toch is dat niet altijd zo geweest. Fotografie bestaat wereldwijd nauwelijks 200 jaar. In Nederland pas sinds ongeveer 1860. En in Coevorden? Fotografie zette hier voet aan wal in de laatste jaren van de 19e eeuw. Een slordige 125 jaar geleden. \nIn de beginjaren van de fotografie zijn het de rondtrekkende fotografen die Coevorden vastleggen. Vanaf 1900 vestigden zich de eerste zelfstandige fotografen in de stad. In ongeveer dezelfde periode vond ook de ontmanteling van de actieve vesting plaats. Toch bestaan er maar weinig afbeeldingen van de wallen\, de poorten\, de kazernen en vooral de Bentheimerpoort met zijn leeuwenkoppen. Kennelijk hadden de fotografen in die tijd oog voor andere zaken. \nIn de tentoonstelling ‘Ik zie\, ik zie\, wat jij niet ziet’ laten we zien welke ontwikkeling de fotografie in Coevorden heeft doorgemaakt. En laten we zien wie de fotografen waren in de vestingstad. En hoe Coevorden de afgelopen 125 jaar is veranderd. Bij de tentoonstelling is een gratis speurtocht voor kinderen. \nDe tentoonstelling ‘Ik zie\, ik zie\, wat jij niet ziet’ is te bezoeken van 31 maart t/m 24 september 2023.
URL:https://stadcoevorden.nl/stadsagenda/tentoonstelling-ik-zie-ik-zie-wat-jij-niet-ziet-2/2023-04-12/
LOCATION:Stedelijk Museum Coevorden\, Haven 4\, Coevorden\, Drenthe\, 7741JV\, Nederland
ATTACH;FMTTYPE=image/jpeg:https://stadcoevorden.nl/wp-content/uploads/2023/04/Beeldmerk-SMC-Ik-zie-ik-zie-wat-jij-niet-ziet-scaled.jpg
ORGANIZER;CN="Stedelijk Museum Coevorden":MAILTO:info@museumcoevorden.nl
END:VEVENT
BEGIN:VEVENT
DTSTART;TZID=Europe/Paris:20230413T093000
DTEND;TZID=Europe/Paris:20230413T170000
DTSTAMP:20260422T005605
CREATED:20230522T131839Z
LAST-MODIFIED:20230522T131839Z
UID:10001143-1681378200-1681405200@stadcoevorden.nl
SUMMARY:Tentoonstelling Ik zie\, ik zie\, wat jij niet ziet
DESCRIPTION:Anno 2023 is het maken van een foto bijna net zo vanzelfsprekend als drinken\, eten en slapen. De meeste mensen hebben tegenwoordig wel een mobiel met camera bij zich. Maar toch is dat niet altijd zo geweest. Fotografie bestaat wereldwijd nauwelijks 200 jaar. In Nederland pas sinds ongeveer 1860. En in Coevorden? Fotografie zette hier voet aan wal in de laatste jaren van de 19e eeuw. Een slordige 125 jaar geleden. \nIn de beginjaren van de fotografie zijn het de rondtrekkende fotografen die Coevorden vastleggen. Vanaf 1900 vestigden zich de eerste zelfstandige fotografen in de stad. In ongeveer dezelfde periode vond ook de ontmanteling van de actieve vesting plaats. Toch bestaan er maar weinig afbeeldingen van de wallen\, de poorten\, de kazernen en vooral de Bentheimerpoort met zijn leeuwenkoppen. Kennelijk hadden de fotografen in die tijd oog voor andere zaken. \nIn de tentoonstelling ‘Ik zie\, ik zie\, wat jij niet ziet’ laten we zien welke ontwikkeling de fotografie in Coevorden heeft doorgemaakt. En laten we zien wie de fotografen waren in de vestingstad. En hoe Coevorden de afgelopen 125 jaar is veranderd. Bij de tentoonstelling is een gratis speurtocht voor kinderen. \nDe tentoonstelling ‘Ik zie\, ik zie\, wat jij niet ziet’ is te bezoeken van 31 maart t/m 24 september 2023.
URL:https://stadcoevorden.nl/stadsagenda/tentoonstelling-ik-zie-ik-zie-wat-jij-niet-ziet-2/2023-04-13/
LOCATION:Stedelijk Museum Coevorden\, Haven 4\, Coevorden\, Drenthe\, 7741JV\, Nederland
ATTACH;FMTTYPE=image/jpeg:https://stadcoevorden.nl/wp-content/uploads/2023/04/Beeldmerk-SMC-Ik-zie-ik-zie-wat-jij-niet-ziet-scaled.jpg
ORGANIZER;CN="Stedelijk Museum Coevorden":MAILTO:info@museumcoevorden.nl
END:VEVENT
BEGIN:VEVENT
DTSTART;TZID=Europe/Paris:20230414T093000
DTEND;TZID=Europe/Paris:20230414T170000
DTSTAMP:20260422T005605
CREATED:20230522T131839Z
LAST-MODIFIED:20230522T131839Z
UID:10001144-1681464600-1681491600@stadcoevorden.nl
SUMMARY:Tentoonstelling Ik zie\, ik zie\, wat jij niet ziet
DESCRIPTION:Anno 2023 is het maken van een foto bijna net zo vanzelfsprekend als drinken\, eten en slapen. De meeste mensen hebben tegenwoordig wel een mobiel met camera bij zich. Maar toch is dat niet altijd zo geweest. Fotografie bestaat wereldwijd nauwelijks 200 jaar. In Nederland pas sinds ongeveer 1860. En in Coevorden? Fotografie zette hier voet aan wal in de laatste jaren van de 19e eeuw. Een slordige 125 jaar geleden. \nIn de beginjaren van de fotografie zijn het de rondtrekkende fotografen die Coevorden vastleggen. Vanaf 1900 vestigden zich de eerste zelfstandige fotografen in de stad. In ongeveer dezelfde periode vond ook de ontmanteling van de actieve vesting plaats. Toch bestaan er maar weinig afbeeldingen van de wallen\, de poorten\, de kazernen en vooral de Bentheimerpoort met zijn leeuwenkoppen. Kennelijk hadden de fotografen in die tijd oog voor andere zaken. \nIn de tentoonstelling ‘Ik zie\, ik zie\, wat jij niet ziet’ laten we zien welke ontwikkeling de fotografie in Coevorden heeft doorgemaakt. En laten we zien wie de fotografen waren in de vestingstad. En hoe Coevorden de afgelopen 125 jaar is veranderd. Bij de tentoonstelling is een gratis speurtocht voor kinderen. \nDe tentoonstelling ‘Ik zie\, ik zie\, wat jij niet ziet’ is te bezoeken van 31 maart t/m 24 september 2023.
URL:https://stadcoevorden.nl/stadsagenda/tentoonstelling-ik-zie-ik-zie-wat-jij-niet-ziet-2/2023-04-14/
LOCATION:Stedelijk Museum Coevorden\, Haven 4\, Coevorden\, Drenthe\, 7741JV\, Nederland
ATTACH;FMTTYPE=image/jpeg:https://stadcoevorden.nl/wp-content/uploads/2023/04/Beeldmerk-SMC-Ik-zie-ik-zie-wat-jij-niet-ziet-scaled.jpg
ORGANIZER;CN="Stedelijk Museum Coevorden":MAILTO:info@museumcoevorden.nl
END:VEVENT
BEGIN:VEVENT
DTSTART;TZID=Europe/Paris:20230415T093000
DTEND;TZID=Europe/Paris:20230415T170000
DTSTAMP:20260422T005605
CREATED:20230522T131839Z
LAST-MODIFIED:20230522T131839Z
UID:10001145-1681551000-1681578000@stadcoevorden.nl
SUMMARY:Tentoonstelling Ik zie\, ik zie\, wat jij niet ziet
DESCRIPTION:Anno 2023 is het maken van een foto bijna net zo vanzelfsprekend als drinken\, eten en slapen. De meeste mensen hebben tegenwoordig wel een mobiel met camera bij zich. Maar toch is dat niet altijd zo geweest. Fotografie bestaat wereldwijd nauwelijks 200 jaar. In Nederland pas sinds ongeveer 1860. En in Coevorden? Fotografie zette hier voet aan wal in de laatste jaren van de 19e eeuw. Een slordige 125 jaar geleden. \nIn de beginjaren van de fotografie zijn het de rondtrekkende fotografen die Coevorden vastleggen. Vanaf 1900 vestigden zich de eerste zelfstandige fotografen in de stad. In ongeveer dezelfde periode vond ook de ontmanteling van de actieve vesting plaats. Toch bestaan er maar weinig afbeeldingen van de wallen\, de poorten\, de kazernen en vooral de Bentheimerpoort met zijn leeuwenkoppen. Kennelijk hadden de fotografen in die tijd oog voor andere zaken. \nIn de tentoonstelling ‘Ik zie\, ik zie\, wat jij niet ziet’ laten we zien welke ontwikkeling de fotografie in Coevorden heeft doorgemaakt. En laten we zien wie de fotografen waren in de vestingstad. En hoe Coevorden de afgelopen 125 jaar is veranderd. Bij de tentoonstelling is een gratis speurtocht voor kinderen. \nDe tentoonstelling ‘Ik zie\, ik zie\, wat jij niet ziet’ is te bezoeken van 31 maart t/m 24 september 2023.
URL:https://stadcoevorden.nl/stadsagenda/tentoonstelling-ik-zie-ik-zie-wat-jij-niet-ziet-2/2023-04-15/
LOCATION:Stedelijk Museum Coevorden\, Haven 4\, Coevorden\, Drenthe\, 7741JV\, Nederland
ATTACH;FMTTYPE=image/jpeg:https://stadcoevorden.nl/wp-content/uploads/2023/04/Beeldmerk-SMC-Ik-zie-ik-zie-wat-jij-niet-ziet-scaled.jpg
ORGANIZER;CN="Stedelijk Museum Coevorden":MAILTO:info@museumcoevorden.nl
END:VEVENT
BEGIN:VEVENT
DTSTART;TZID=Europe/Paris:20230415T110000
DTEND;TZID=Europe/Paris:20230415T160000
DTSTAMP:20260422T005605
CREATED:20230404T142012Z
LAST-MODIFIED:20230411T142847Z
UID:10001132-1681556400-1681574400@stadcoevorden.nl
SUMMARY:Denk mee over ontwerp Markt en Haven tijdens inloopbijeenkomst
DESCRIPTION:Er wordt hard gewerkt aan de realisatie van het Kasteelpark in de binnenstad van Coevorden. Na de Weeshuisweide is de Markt en Haven de  volgende onderdelen die aangepakt wordt.\nEr zijn twee schetsontwerpen gemaakt. Programma Binnenstad (met daarin Domesta\, Centrummanagement en gemeente Coevorden) nodigt iedereen uit om op zaterdag 15 april tijdens een grote inloopbijeenkomst om op de Markt de ontwerpen mee te denken en in gesprek te gaan. Met behulp van de input die wordt opgehaald\, wordt uiteindelijk één ontwerp gemaakt.\nDe inloopbijeenkomst is van 11.00 tot 16.00 uur. Extra leuk is dat er ook allerlei activiteiten te doen zijn voor jong en oud. Alles rondom het thema Middeleeuwen. \nBent u erbij? We zien u graag!
URL:https://stadcoevorden.nl/stadsagenda/denk-mee-over-ontwerp-markt-tijdens-inloopbijeenkomst/
LOCATION:Untitled\, Coevorden\, Drenthe\, Nederland
ATTACH;FMTTYPE=image/jpeg:https://stadcoevorden.nl/wp-content/uploads/2023/03/Foto-Markt.jpg
END:VEVENT
BEGIN:VEVENT
DTSTART;TZID=Europe/Paris:20230415T110000
DTEND;TZID=Europe/Paris:20230415T160000
DTSTAMP:20260422T005605
CREATED:20230522T131813Z
LAST-MODIFIED:20230522T131813Z
UID:10001133-1681556400-1681574400@stadcoevorden.nl
SUMMARY:Inloopbijeenkomst schetsontwerpen Markt en Haven
DESCRIPTION:In Coevorden zijn we druk bezig om de binnenstad nóg mooier te maken. Zo worden de Markt\, Haven\, Citadelpunt en Weeshuisweide met elkaar verbonden tot Kasteelpark Coevorden. Inmiddels is de eerste stap naar de realisatie van het Kasteelpark gezet en zijn we hard aan het werk op de Weeshuisweide. Nu is het tijd voor de volgende stap: een nieuwe inrichting voor de Markt en Haven! \nVoor de Markt en Haven zijn twee schetsontwerpen gemaakt. Deze presenteren we graag aan u tijdens een feestelijke bijeenkomst op zaterdag 15 april 2023 tussen 11.00 en 16.00 uur op de Markt in Coevorden. Tijdens de bijeenkomst is er voor iedereen wat te doen. Zo kunt u de informatiemarkt bezoeken in het middeleeuwse tentenkamp\, zijn er verschillende liveoptredens en kunnen kinderen zich laten schminken als ridder of prinses. Ook kunt u tijdens de bijeenkomst in gesprek met de gemeente om te laten weten hoe u de nieuwe inrichting van de Markt en Haven voor u ziet. Met behulp van de reacties die tijdens de bijeenkomst worden opgehaald\, wordt er uiteindelijk nog een nieuw ontwerp gemaakt. Het is dus niet een keuze tussen ontwerp 1 en 2 maar op basis van de reacties wordt ontwerp 3 gemaakt.
URL:https://stadcoevorden.nl/stadsagenda/inloopbijeenkomst-schetsontwerpen-markt-en-haven/
LOCATION:Markt\, Markt\, Coevorden\, Drenthe\, 7741 JM\, Nederland
ATTACH;FMTTYPE=image/png:https://stadcoevorden.nl/wp-content/uploads/2023/04/Praat-mee-over-de-Markt-en-Haven.png
ORGANIZER;CN="Programma Binnenstad":MAILTO:l.spliet@hajemacommunicatie.nl
END:VEVENT
BEGIN:VEVENT
DTSTART;TZID=Europe/Paris:20230416T120000
DTEND;TZID=Europe/Paris:20230416T170000
DTSTAMP:20260422T005605
CREATED:20230522T131740Z
LAST-MODIFIED:20230522T131740Z
UID:10001263-1681646400-1681664400@stadcoevorden.nl
SUMMARY:Tentoonstelling Ik zie\, ik zie\, wat jij niet ziet
DESCRIPTION:Anno 2023 is het maken van een foto bijna net zo vanzelfsprekend als drinken\, eten en slapen. De meeste mensen hebben tegenwoordig wel een mobiel met camera bij zich. Maar toch is dat niet altijd zo geweest. Fotografie bestaat wereldwijd nauwelijks 200 jaar. In Nederland pas sinds ongeveer 1860. En in Coevorden? Fotografie zette hier voet aan wal in de laatste jaren van de 19e eeuw. Een slordige 125 jaar geleden. \nIn de beginjaren van de fotografie zijn het de rondtrekkende fotografen die Coevorden vastleggen. Vanaf 1900 vestigden zich de eerste zelfstandige fotografen in de stad. In ongeveer dezelfde periode vond ook de ontmanteling van de actieve vesting plaats. Toch bestaan er maar weinig afbeeldingen van de wallen\, de poorten\, de kazernen en vooral de Bentheimerpoort met zijn leeuwenkoppen. Kennelijk hadden de fotografen in die tijd oog voor andere zaken. \nIn de tentoonstelling ‘Ik zie\, ik zie\, wat jij niet ziet’ laten we zien welke ontwikkeling de fotografie in Coevorden heeft doorgemaakt. En laten we zien wie de fotografen waren in de vestingstad. En hoe Coevorden de afgelopen 125 jaar is veranderd. Bij de tentoonstelling is een gratis speurtocht voor kinderen. \nDe tentoonstelling ‘Ik zie\, ik zie\, wat jij niet ziet’ is te bezoeken van 31 maart t/m 24 september 2023. \nFoto: Drents Archief (Collectie Hoekstra)
URL:https://stadcoevorden.nl/stadsagenda/tentoonstelling-ik-zie-ik-zie-wat-jij-niet-ziet/2023-04-16/
LOCATION:Stedelijk Museum Coevorden\, Haven 4\, Coevorden\, Drenthe\, 7741JV\, Nederland
ATTACH;FMTTYPE=image/jpeg:https://stadcoevorden.nl/wp-content/uploads/2023/04/Beeldmerk-SMC-Ik-zie-ik-zie-wat-jij-niet-ziet-1-scaled.jpg
ORGANIZER;CN="Stedelijk Museum Coevorden":MAILTO:info@museumcoevorden.nl
END:VEVENT
END:VCALENDAR