BEGIN:VCALENDAR
VERSION:2.0
PRODID:-//Stad Coevorden - ECPv6.2.9//NONSGML v1.0//EN
CALSCALE:GREGORIAN
METHOD:PUBLISH
X-ORIGINAL-URL:https://stadcoevorden.nl
X-WR-CALDESC:Evenementen voor Stad Coevorden
REFRESH-INTERVAL;VALUE=DURATION:PT1H
X-Robots-Tag:noindex
X-PUBLISHED-TTL:PT1H
BEGIN:VTIMEZONE
TZID:Europe/Paris
BEGIN:DAYLIGHT
TZOFFSETFROM:+0100
TZOFFSETTO:+0200
TZNAME:CEST
DTSTART:20230326T010000
END:DAYLIGHT
BEGIN:STANDARD
TZOFFSETFROM:+0200
TZOFFSETTO:+0100
TZNAME:CET
DTSTART:20231029T010000
END:STANDARD
END:VTIMEZONE
BEGIN:VEVENT
DTSTART;TZID=Europe/Paris:20230509T093000
DTEND;TZID=Europe/Paris:20230509T170000
DTSTAMP:20260421T121810
CREATED:20230522T131839Z
LAST-MODIFIED:20230522T131839Z
UID:10001161-1683624600-1683651600@stadcoevorden.nl
SUMMARY:Tentoonstelling Ik zie\, ik zie\, wat jij niet ziet
DESCRIPTION:Anno 2023 is het maken van een foto bijna net zo vanzelfsprekend als drinken\, eten en slapen. De meeste mensen hebben tegenwoordig wel een mobiel met camera bij zich. Maar toch is dat niet altijd zo geweest. Fotografie bestaat wereldwijd nauwelijks 200 jaar. In Nederland pas sinds ongeveer 1860. En in Coevorden? Fotografie zette hier voet aan wal in de laatste jaren van de 19e eeuw. Een slordige 125 jaar geleden. \nIn de beginjaren van de fotografie zijn het de rondtrekkende fotografen die Coevorden vastleggen. Vanaf 1900 vestigden zich de eerste zelfstandige fotografen in de stad. In ongeveer dezelfde periode vond ook de ontmanteling van de actieve vesting plaats. Toch bestaan er maar weinig afbeeldingen van de wallen\, de poorten\, de kazernen en vooral de Bentheimerpoort met zijn leeuwenkoppen. Kennelijk hadden de fotografen in die tijd oog voor andere zaken. \nIn de tentoonstelling ‘Ik zie\, ik zie\, wat jij niet ziet’ laten we zien welke ontwikkeling de fotografie in Coevorden heeft doorgemaakt. En laten we zien wie de fotografen waren in de vestingstad. En hoe Coevorden de afgelopen 125 jaar is veranderd. Bij de tentoonstelling is een gratis speurtocht voor kinderen. \nDe tentoonstelling ‘Ik zie\, ik zie\, wat jij niet ziet’ is te bezoeken van 31 maart t/m 24 september 2023.
URL:https://stadcoevorden.nl/stadsagenda/tentoonstelling-ik-zie-ik-zie-wat-jij-niet-ziet-2/2023-05-09/
LOCATION:Stedelijk Museum Coevorden\, Haven 4\, Coevorden\, Drenthe\, 7741JV\, Nederland
ATTACH;FMTTYPE=image/jpeg:https://stadcoevorden.nl/wp-content/uploads/2023/04/Beeldmerk-SMC-Ik-zie-ik-zie-wat-jij-niet-ziet-scaled.jpg
ORGANIZER;CN="Stedelijk Museum Coevorden":MAILTO:info@museumcoevorden.nl
END:VEVENT
BEGIN:VEVENT
DTSTART;TZID=Europe/Paris:20230510T093000
DTEND;TZID=Europe/Paris:20230510T170000
DTSTAMP:20260421T121810
CREATED:20230522T131839Z
LAST-MODIFIED:20230522T131839Z
UID:10001162-1683711000-1683738000@stadcoevorden.nl
SUMMARY:Tentoonstelling Ik zie\, ik zie\, wat jij niet ziet
DESCRIPTION:Anno 2023 is het maken van een foto bijna net zo vanzelfsprekend als drinken\, eten en slapen. De meeste mensen hebben tegenwoordig wel een mobiel met camera bij zich. Maar toch is dat niet altijd zo geweest. Fotografie bestaat wereldwijd nauwelijks 200 jaar. In Nederland pas sinds ongeveer 1860. En in Coevorden? Fotografie zette hier voet aan wal in de laatste jaren van de 19e eeuw. Een slordige 125 jaar geleden. \nIn de beginjaren van de fotografie zijn het de rondtrekkende fotografen die Coevorden vastleggen. Vanaf 1900 vestigden zich de eerste zelfstandige fotografen in de stad. In ongeveer dezelfde periode vond ook de ontmanteling van de actieve vesting plaats. Toch bestaan er maar weinig afbeeldingen van de wallen\, de poorten\, de kazernen en vooral de Bentheimerpoort met zijn leeuwenkoppen. Kennelijk hadden de fotografen in die tijd oog voor andere zaken. \nIn de tentoonstelling ‘Ik zie\, ik zie\, wat jij niet ziet’ laten we zien welke ontwikkeling de fotografie in Coevorden heeft doorgemaakt. En laten we zien wie de fotografen waren in de vestingstad. En hoe Coevorden de afgelopen 125 jaar is veranderd. Bij de tentoonstelling is een gratis speurtocht voor kinderen. \nDe tentoonstelling ‘Ik zie\, ik zie\, wat jij niet ziet’ is te bezoeken van 31 maart t/m 24 september 2023.
URL:https://stadcoevorden.nl/stadsagenda/tentoonstelling-ik-zie-ik-zie-wat-jij-niet-ziet-2/2023-05-10/
LOCATION:Stedelijk Museum Coevorden\, Haven 4\, Coevorden\, Drenthe\, 7741JV\, Nederland
ATTACH;FMTTYPE=image/jpeg:https://stadcoevorden.nl/wp-content/uploads/2023/04/Beeldmerk-SMC-Ik-zie-ik-zie-wat-jij-niet-ziet-scaled.jpg
ORGANIZER;CN="Stedelijk Museum Coevorden":MAILTO:info@museumcoevorden.nl
END:VEVENT
BEGIN:VEVENT
DTSTART;TZID=Europe/Paris:20230511T093000
DTEND;TZID=Europe/Paris:20230511T170000
DTSTAMP:20260421T121810
CREATED:20230522T131839Z
LAST-MODIFIED:20230522T131839Z
UID:10001163-1683797400-1683824400@stadcoevorden.nl
SUMMARY:Tentoonstelling Ik zie\, ik zie\, wat jij niet ziet
DESCRIPTION:Anno 2023 is het maken van een foto bijna net zo vanzelfsprekend als drinken\, eten en slapen. De meeste mensen hebben tegenwoordig wel een mobiel met camera bij zich. Maar toch is dat niet altijd zo geweest. Fotografie bestaat wereldwijd nauwelijks 200 jaar. In Nederland pas sinds ongeveer 1860. En in Coevorden? Fotografie zette hier voet aan wal in de laatste jaren van de 19e eeuw. Een slordige 125 jaar geleden. \nIn de beginjaren van de fotografie zijn het de rondtrekkende fotografen die Coevorden vastleggen. Vanaf 1900 vestigden zich de eerste zelfstandige fotografen in de stad. In ongeveer dezelfde periode vond ook de ontmanteling van de actieve vesting plaats. Toch bestaan er maar weinig afbeeldingen van de wallen\, de poorten\, de kazernen en vooral de Bentheimerpoort met zijn leeuwenkoppen. Kennelijk hadden de fotografen in die tijd oog voor andere zaken. \nIn de tentoonstelling ‘Ik zie\, ik zie\, wat jij niet ziet’ laten we zien welke ontwikkeling de fotografie in Coevorden heeft doorgemaakt. En laten we zien wie de fotografen waren in de vestingstad. En hoe Coevorden de afgelopen 125 jaar is veranderd. Bij de tentoonstelling is een gratis speurtocht voor kinderen. \nDe tentoonstelling ‘Ik zie\, ik zie\, wat jij niet ziet’ is te bezoeken van 31 maart t/m 24 september 2023.
URL:https://stadcoevorden.nl/stadsagenda/tentoonstelling-ik-zie-ik-zie-wat-jij-niet-ziet-2/2023-05-11/
LOCATION:Stedelijk Museum Coevorden\, Haven 4\, Coevorden\, Drenthe\, 7741JV\, Nederland
ATTACH;FMTTYPE=image/jpeg:https://stadcoevorden.nl/wp-content/uploads/2023/04/Beeldmerk-SMC-Ik-zie-ik-zie-wat-jij-niet-ziet-scaled.jpg
ORGANIZER;CN="Stedelijk Museum Coevorden":MAILTO:info@museumcoevorden.nl
END:VEVENT
BEGIN:VEVENT
DTSTART;TZID=Europe/Paris:20230512T093000
DTEND;TZID=Europe/Paris:20230512T170000
DTSTAMP:20260421T121810
CREATED:20230522T131839Z
LAST-MODIFIED:20230522T131839Z
UID:10001164-1683883800-1683910800@stadcoevorden.nl
SUMMARY:Tentoonstelling Ik zie\, ik zie\, wat jij niet ziet
DESCRIPTION:Anno 2023 is het maken van een foto bijna net zo vanzelfsprekend als drinken\, eten en slapen. De meeste mensen hebben tegenwoordig wel een mobiel met camera bij zich. Maar toch is dat niet altijd zo geweest. Fotografie bestaat wereldwijd nauwelijks 200 jaar. In Nederland pas sinds ongeveer 1860. En in Coevorden? Fotografie zette hier voet aan wal in de laatste jaren van de 19e eeuw. Een slordige 125 jaar geleden. \nIn de beginjaren van de fotografie zijn het de rondtrekkende fotografen die Coevorden vastleggen. Vanaf 1900 vestigden zich de eerste zelfstandige fotografen in de stad. In ongeveer dezelfde periode vond ook de ontmanteling van de actieve vesting plaats. Toch bestaan er maar weinig afbeeldingen van de wallen\, de poorten\, de kazernen en vooral de Bentheimerpoort met zijn leeuwenkoppen. Kennelijk hadden de fotografen in die tijd oog voor andere zaken. \nIn de tentoonstelling ‘Ik zie\, ik zie\, wat jij niet ziet’ laten we zien welke ontwikkeling de fotografie in Coevorden heeft doorgemaakt. En laten we zien wie de fotografen waren in de vestingstad. En hoe Coevorden de afgelopen 125 jaar is veranderd. Bij de tentoonstelling is een gratis speurtocht voor kinderen. \nDe tentoonstelling ‘Ik zie\, ik zie\, wat jij niet ziet’ is te bezoeken van 31 maart t/m 24 september 2023.
URL:https://stadcoevorden.nl/stadsagenda/tentoonstelling-ik-zie-ik-zie-wat-jij-niet-ziet-2/2023-05-12/
LOCATION:Stedelijk Museum Coevorden\, Haven 4\, Coevorden\, Drenthe\, 7741JV\, Nederland
ATTACH;FMTTYPE=image/jpeg:https://stadcoevorden.nl/wp-content/uploads/2023/04/Beeldmerk-SMC-Ik-zie-ik-zie-wat-jij-niet-ziet-scaled.jpg
ORGANIZER;CN="Stedelijk Museum Coevorden":MAILTO:info@museumcoevorden.nl
END:VEVENT
BEGIN:VEVENT
DTSTART;TZID=Europe/Paris:20230513T090000
DTEND;TZID=Europe/Paris:20230513T170000
DTSTAMP:20260421T121811
CREATED:20230224T075704Z
LAST-MODIFIED:20230509T120713Z
UID:10000911-1683968400-1683997200@stadcoevorden.nl
SUMMARY:Moederdag Kassabonnen-actie Centrum Coevorden
DESCRIPTION:Op de zaterdag voor Moederdag maakt u kans op leuke prijzen.\, na inlevering van uw kassabon(nen).
URL:https://stadcoevorden.nl/stadsagenda/kassabonnen-actie-centrum-coevorden/
LOCATION:Coevorden centrum
ATTACH;FMTTYPE=image/jpeg:https://stadcoevorden.nl/wp-content/uploads/2023/02/moederdag.jpg
END:VEVENT
BEGIN:VEVENT
DTSTART;TZID=Europe/Paris:20230513T093000
DTEND;TZID=Europe/Paris:20230513T170000
DTSTAMP:20260421T121811
CREATED:20230522T131839Z
LAST-MODIFIED:20230522T131839Z
UID:10001165-1683970200-1683997200@stadcoevorden.nl
SUMMARY:Tentoonstelling Ik zie\, ik zie\, wat jij niet ziet
DESCRIPTION:Anno 2023 is het maken van een foto bijna net zo vanzelfsprekend als drinken\, eten en slapen. De meeste mensen hebben tegenwoordig wel een mobiel met camera bij zich. Maar toch is dat niet altijd zo geweest. Fotografie bestaat wereldwijd nauwelijks 200 jaar. In Nederland pas sinds ongeveer 1860. En in Coevorden? Fotografie zette hier voet aan wal in de laatste jaren van de 19e eeuw. Een slordige 125 jaar geleden. \nIn de beginjaren van de fotografie zijn het de rondtrekkende fotografen die Coevorden vastleggen. Vanaf 1900 vestigden zich de eerste zelfstandige fotografen in de stad. In ongeveer dezelfde periode vond ook de ontmanteling van de actieve vesting plaats. Toch bestaan er maar weinig afbeeldingen van de wallen\, de poorten\, de kazernen en vooral de Bentheimerpoort met zijn leeuwenkoppen. Kennelijk hadden de fotografen in die tijd oog voor andere zaken. \nIn de tentoonstelling ‘Ik zie\, ik zie\, wat jij niet ziet’ laten we zien welke ontwikkeling de fotografie in Coevorden heeft doorgemaakt. En laten we zien wie de fotografen waren in de vestingstad. En hoe Coevorden de afgelopen 125 jaar is veranderd. Bij de tentoonstelling is een gratis speurtocht voor kinderen. \nDe tentoonstelling ‘Ik zie\, ik zie\, wat jij niet ziet’ is te bezoeken van 31 maart t/m 24 september 2023.
URL:https://stadcoevorden.nl/stadsagenda/tentoonstelling-ik-zie-ik-zie-wat-jij-niet-ziet-2/2023-05-13/
LOCATION:Stedelijk Museum Coevorden\, Haven 4\, Coevorden\, Drenthe\, 7741JV\, Nederland
ATTACH;FMTTYPE=image/jpeg:https://stadcoevorden.nl/wp-content/uploads/2023/04/Beeldmerk-SMC-Ik-zie-ik-zie-wat-jij-niet-ziet-scaled.jpg
ORGANIZER;CN="Stedelijk Museum Coevorden":MAILTO:info@museumcoevorden.nl
END:VEVENT
BEGIN:VEVENT
DTSTART;TZID=Europe/Paris:20230514T120000
DTEND;TZID=Europe/Paris:20230514T170000
DTSTAMP:20260421T121811
CREATED:20230522T131740Z
LAST-MODIFIED:20230522T131740Z
UID:10001267-1684065600-1684083600@stadcoevorden.nl
SUMMARY:Tentoonstelling Ik zie\, ik zie\, wat jij niet ziet
DESCRIPTION:Anno 2023 is het maken van een foto bijna net zo vanzelfsprekend als drinken\, eten en slapen. De meeste mensen hebben tegenwoordig wel een mobiel met camera bij zich. Maar toch is dat niet altijd zo geweest. Fotografie bestaat wereldwijd nauwelijks 200 jaar. In Nederland pas sinds ongeveer 1860. En in Coevorden? Fotografie zette hier voet aan wal in de laatste jaren van de 19e eeuw. Een slordige 125 jaar geleden. \nIn de beginjaren van de fotografie zijn het de rondtrekkende fotografen die Coevorden vastleggen. Vanaf 1900 vestigden zich de eerste zelfstandige fotografen in de stad. In ongeveer dezelfde periode vond ook de ontmanteling van de actieve vesting plaats. Toch bestaan er maar weinig afbeeldingen van de wallen\, de poorten\, de kazernen en vooral de Bentheimerpoort met zijn leeuwenkoppen. Kennelijk hadden de fotografen in die tijd oog voor andere zaken. \nIn de tentoonstelling ‘Ik zie\, ik zie\, wat jij niet ziet’ laten we zien welke ontwikkeling de fotografie in Coevorden heeft doorgemaakt. En laten we zien wie de fotografen waren in de vestingstad. En hoe Coevorden de afgelopen 125 jaar is veranderd. Bij de tentoonstelling is een gratis speurtocht voor kinderen. \nDe tentoonstelling ‘Ik zie\, ik zie\, wat jij niet ziet’ is te bezoeken van 31 maart t/m 24 september 2023. \nFoto: Drents Archief (Collectie Hoekstra)
URL:https://stadcoevorden.nl/stadsagenda/tentoonstelling-ik-zie-ik-zie-wat-jij-niet-ziet/2023-05-14/
LOCATION:Stedelijk Museum Coevorden\, Haven 4\, Coevorden\, Drenthe\, 7741JV\, Nederland
ATTACH;FMTTYPE=image/jpeg:https://stadcoevorden.nl/wp-content/uploads/2023/04/Beeldmerk-SMC-Ik-zie-ik-zie-wat-jij-niet-ziet-1-scaled.jpg
ORGANIZER;CN="Stedelijk Museum Coevorden":MAILTO:info@museumcoevorden.nl
END:VEVENT
END:VCALENDAR