BEGIN:VCALENDAR
VERSION:2.0
PRODID:-//Stad Coevorden - ECPv6.2.9//NONSGML v1.0//EN
CALSCALE:GREGORIAN
METHOD:PUBLISH
X-WR-CALNAME:Stad Coevorden
X-ORIGINAL-URL:https://stadcoevorden.nl
X-WR-CALDESC:Evenementen voor Stad Coevorden
REFRESH-INTERVAL;VALUE=DURATION:PT1H
X-Robots-Tag:noindex
X-PUBLISHED-TTL:PT1H
BEGIN:VTIMEZONE
TZID:Europe/Paris
BEGIN:DAYLIGHT
TZOFFSETFROM:+0100
TZOFFSETTO:+0200
TZNAME:CEST
DTSTART:20230326T010000
END:DAYLIGHT
BEGIN:STANDARD
TZOFFSETFROM:+0200
TZOFFSETTO:+0100
TZNAME:CET
DTSTART:20231029T010000
END:STANDARD
END:VTIMEZONE
BEGIN:VEVENT
DTSTART;TZID=Europe/Paris:20230516T093000
DTEND;TZID=Europe/Paris:20230516T170000
DTSTAMP:20260421T121647
CREATED:20230522T131839Z
LAST-MODIFIED:20230522T131839Z
UID:10001166-1684229400-1684256400@stadcoevorden.nl
SUMMARY:Tentoonstelling Ik zie\, ik zie\, wat jij niet ziet
DESCRIPTION:Anno 2023 is het maken van een foto bijna net zo vanzelfsprekend als drinken\, eten en slapen. De meeste mensen hebben tegenwoordig wel een mobiel met camera bij zich. Maar toch is dat niet altijd zo geweest. Fotografie bestaat wereldwijd nauwelijks 200 jaar. In Nederland pas sinds ongeveer 1860. En in Coevorden? Fotografie zette hier voet aan wal in de laatste jaren van de 19e eeuw. Een slordige 125 jaar geleden. \nIn de beginjaren van de fotografie zijn het de rondtrekkende fotografen die Coevorden vastleggen. Vanaf 1900 vestigden zich de eerste zelfstandige fotografen in de stad. In ongeveer dezelfde periode vond ook de ontmanteling van de actieve vesting plaats. Toch bestaan er maar weinig afbeeldingen van de wallen\, de poorten\, de kazernen en vooral de Bentheimerpoort met zijn leeuwenkoppen. Kennelijk hadden de fotografen in die tijd oog voor andere zaken. \nIn de tentoonstelling ‘Ik zie\, ik zie\, wat jij niet ziet’ laten we zien welke ontwikkeling de fotografie in Coevorden heeft doorgemaakt. En laten we zien wie de fotografen waren in de vestingstad. En hoe Coevorden de afgelopen 125 jaar is veranderd. Bij de tentoonstelling is een gratis speurtocht voor kinderen. \nDe tentoonstelling ‘Ik zie\, ik zie\, wat jij niet ziet’ is te bezoeken van 31 maart t/m 24 september 2023.
URL:https://stadcoevorden.nl/stadsagenda/tentoonstelling-ik-zie-ik-zie-wat-jij-niet-ziet-2/2023-05-16/
LOCATION:Stedelijk Museum Coevorden\, Haven 4\, Coevorden\, Drenthe\, 7741JV\, Nederland
ATTACH;FMTTYPE=image/jpeg:https://stadcoevorden.nl/wp-content/uploads/2023/04/Beeldmerk-SMC-Ik-zie-ik-zie-wat-jij-niet-ziet-scaled.jpg
ORGANIZER;CN="Stedelijk Museum Coevorden":MAILTO:info@museumcoevorden.nl
END:VEVENT
BEGIN:VEVENT
DTSTART;TZID=Europe/Paris:20230517T093000
DTEND;TZID=Europe/Paris:20230517T170000
DTSTAMP:20260421T121647
CREATED:20230522T131839Z
LAST-MODIFIED:20230522T131839Z
UID:10001167-1684315800-1684342800@stadcoevorden.nl
SUMMARY:Tentoonstelling Ik zie\, ik zie\, wat jij niet ziet
DESCRIPTION:Anno 2023 is het maken van een foto bijna net zo vanzelfsprekend als drinken\, eten en slapen. De meeste mensen hebben tegenwoordig wel een mobiel met camera bij zich. Maar toch is dat niet altijd zo geweest. Fotografie bestaat wereldwijd nauwelijks 200 jaar. In Nederland pas sinds ongeveer 1860. En in Coevorden? Fotografie zette hier voet aan wal in de laatste jaren van de 19e eeuw. Een slordige 125 jaar geleden. \nIn de beginjaren van de fotografie zijn het de rondtrekkende fotografen die Coevorden vastleggen. Vanaf 1900 vestigden zich de eerste zelfstandige fotografen in de stad. In ongeveer dezelfde periode vond ook de ontmanteling van de actieve vesting plaats. Toch bestaan er maar weinig afbeeldingen van de wallen\, de poorten\, de kazernen en vooral de Bentheimerpoort met zijn leeuwenkoppen. Kennelijk hadden de fotografen in die tijd oog voor andere zaken. \nIn de tentoonstelling ‘Ik zie\, ik zie\, wat jij niet ziet’ laten we zien welke ontwikkeling de fotografie in Coevorden heeft doorgemaakt. En laten we zien wie de fotografen waren in de vestingstad. En hoe Coevorden de afgelopen 125 jaar is veranderd. Bij de tentoonstelling is een gratis speurtocht voor kinderen. \nDe tentoonstelling ‘Ik zie\, ik zie\, wat jij niet ziet’ is te bezoeken van 31 maart t/m 24 september 2023.
URL:https://stadcoevorden.nl/stadsagenda/tentoonstelling-ik-zie-ik-zie-wat-jij-niet-ziet-2/2023-05-17/
LOCATION:Stedelijk Museum Coevorden\, Haven 4\, Coevorden\, Drenthe\, 7741JV\, Nederland
ATTACH;FMTTYPE=image/jpeg:https://stadcoevorden.nl/wp-content/uploads/2023/04/Beeldmerk-SMC-Ik-zie-ik-zie-wat-jij-niet-ziet-scaled.jpg
ORGANIZER;CN="Stedelijk Museum Coevorden":MAILTO:info@museumcoevorden.nl
END:VEVENT
BEGIN:VEVENT
DTSTART;TZID=Europe/Paris:20230518T093000
DTEND;TZID=Europe/Paris:20230518T170000
DTSTAMP:20260421T121647
CREATED:20230522T131839Z
LAST-MODIFIED:20230522T131839Z
UID:10001168-1684402200-1684429200@stadcoevorden.nl
SUMMARY:Tentoonstelling Ik zie\, ik zie\, wat jij niet ziet
DESCRIPTION:Anno 2023 is het maken van een foto bijna net zo vanzelfsprekend als drinken\, eten en slapen. De meeste mensen hebben tegenwoordig wel een mobiel met camera bij zich. Maar toch is dat niet altijd zo geweest. Fotografie bestaat wereldwijd nauwelijks 200 jaar. In Nederland pas sinds ongeveer 1860. En in Coevorden? Fotografie zette hier voet aan wal in de laatste jaren van de 19e eeuw. Een slordige 125 jaar geleden. \nIn de beginjaren van de fotografie zijn het de rondtrekkende fotografen die Coevorden vastleggen. Vanaf 1900 vestigden zich de eerste zelfstandige fotografen in de stad. In ongeveer dezelfde periode vond ook de ontmanteling van de actieve vesting plaats. Toch bestaan er maar weinig afbeeldingen van de wallen\, de poorten\, de kazernen en vooral de Bentheimerpoort met zijn leeuwenkoppen. Kennelijk hadden de fotografen in die tijd oog voor andere zaken. \nIn de tentoonstelling ‘Ik zie\, ik zie\, wat jij niet ziet’ laten we zien welke ontwikkeling de fotografie in Coevorden heeft doorgemaakt. En laten we zien wie de fotografen waren in de vestingstad. En hoe Coevorden de afgelopen 125 jaar is veranderd. Bij de tentoonstelling is een gratis speurtocht voor kinderen. \nDe tentoonstelling ‘Ik zie\, ik zie\, wat jij niet ziet’ is te bezoeken van 31 maart t/m 24 september 2023.
URL:https://stadcoevorden.nl/stadsagenda/tentoonstelling-ik-zie-ik-zie-wat-jij-niet-ziet-2/2023-05-18/
LOCATION:Stedelijk Museum Coevorden\, Haven 4\, Coevorden\, Drenthe\, 7741JV\, Nederland
ATTACH;FMTTYPE=image/jpeg:https://stadcoevorden.nl/wp-content/uploads/2023/04/Beeldmerk-SMC-Ik-zie-ik-zie-wat-jij-niet-ziet-scaled.jpg
ORGANIZER;CN="Stedelijk Museum Coevorden":MAILTO:info@museumcoevorden.nl
END:VEVENT
BEGIN:VEVENT
DTSTART;TZID=Europe/Paris:20230519T093000
DTEND;TZID=Europe/Paris:20230519T170000
DTSTAMP:20260421T121647
CREATED:20230522T131839Z
LAST-MODIFIED:20230522T131839Z
UID:10001169-1684488600-1684515600@stadcoevorden.nl
SUMMARY:Tentoonstelling Ik zie\, ik zie\, wat jij niet ziet
DESCRIPTION:Anno 2023 is het maken van een foto bijna net zo vanzelfsprekend als drinken\, eten en slapen. De meeste mensen hebben tegenwoordig wel een mobiel met camera bij zich. Maar toch is dat niet altijd zo geweest. Fotografie bestaat wereldwijd nauwelijks 200 jaar. In Nederland pas sinds ongeveer 1860. En in Coevorden? Fotografie zette hier voet aan wal in de laatste jaren van de 19e eeuw. Een slordige 125 jaar geleden. \nIn de beginjaren van de fotografie zijn het de rondtrekkende fotografen die Coevorden vastleggen. Vanaf 1900 vestigden zich de eerste zelfstandige fotografen in de stad. In ongeveer dezelfde periode vond ook de ontmanteling van de actieve vesting plaats. Toch bestaan er maar weinig afbeeldingen van de wallen\, de poorten\, de kazernen en vooral de Bentheimerpoort met zijn leeuwenkoppen. Kennelijk hadden de fotografen in die tijd oog voor andere zaken. \nIn de tentoonstelling ‘Ik zie\, ik zie\, wat jij niet ziet’ laten we zien welke ontwikkeling de fotografie in Coevorden heeft doorgemaakt. En laten we zien wie de fotografen waren in de vestingstad. En hoe Coevorden de afgelopen 125 jaar is veranderd. Bij de tentoonstelling is een gratis speurtocht voor kinderen. \nDe tentoonstelling ‘Ik zie\, ik zie\, wat jij niet ziet’ is te bezoeken van 31 maart t/m 24 september 2023.
URL:https://stadcoevorden.nl/stadsagenda/tentoonstelling-ik-zie-ik-zie-wat-jij-niet-ziet-2/2023-05-19/
LOCATION:Stedelijk Museum Coevorden\, Haven 4\, Coevorden\, Drenthe\, 7741JV\, Nederland
ATTACH;FMTTYPE=image/jpeg:https://stadcoevorden.nl/wp-content/uploads/2023/04/Beeldmerk-SMC-Ik-zie-ik-zie-wat-jij-niet-ziet-scaled.jpg
ORGANIZER;CN="Stedelijk Museum Coevorden":MAILTO:info@museumcoevorden.nl
END:VEVENT
BEGIN:VEVENT
DTSTART;VALUE=DATE:20230520
DTEND;VALUE=DATE:20230522
DTSTAMP:20260421T121647
CREATED:20230404T142346Z
LAST-MODIFIED:20230404T142346Z
UID:10000567-1684544400-1684630799@stadcoevorden.nl
SUMMARY:Truckersdag
DESCRIPTION:Stichting De Kasteeltruckers organiseert op zaterdag 20 mei de Truckers-Transportdag op het terrien van Graaco aan de Mars in Coevorden.\nHet doel van de Kasteeltruckers is om de bezoekers kennis te laten maken met het wel en wee van vrachtwagenchauffeurs\, vervoerders en logistieke dienstverleners.\nSinds 1991 word tweejaarlijks een Truckers-Transportdag georganiseerd.\nVanaf de Haven bij het Arsenaal zal een boot varen van en naar het terrein aan de Mars.
URL:https://stadcoevorden.nl/stadsagenda/truckersdag/
LOCATION:Untitled\, Coevorden\, Drenthe\, Nederland
ATTACH;FMTTYPE=image/jpeg:https://stadcoevorden.nl/wp-content/uploads/2023/03/DSC_7696-scaled.jpg
END:VEVENT
BEGIN:VEVENT
DTSTART;TZID=Europe/Paris:20230520T090000
DTEND;TZID=Europe/Paris:20230520T170000
DTSTAMP:20260421T121647
CREATED:20230224T080122Z
LAST-MODIFIED:20230509T120654Z
UID:10000912-1684573200-1684602000@stadcoevorden.nl
SUMMARY:Voorjaars-Braderie
DESCRIPTION:Gezellige braderie in het centrum van Coevorden.
URL:https://stadcoevorden.nl/stadsagenda/voorjaars-braderie/
LOCATION:Coevorden centrum
ATTACH;FMTTYPE=image/jpeg:https://stadcoevorden.nl/wp-content/uploads/2023/02/braderie.jpg
END:VEVENT
BEGIN:VEVENT
DTSTART;TZID=Europe/Paris:20230520T093000
DTEND;TZID=Europe/Paris:20230520T170000
DTSTAMP:20260421T121647
CREATED:20230522T131839Z
LAST-MODIFIED:20230522T131839Z
UID:10001170-1684575000-1684602000@stadcoevorden.nl
SUMMARY:Tentoonstelling Ik zie\, ik zie\, wat jij niet ziet
DESCRIPTION:Anno 2023 is het maken van een foto bijna net zo vanzelfsprekend als drinken\, eten en slapen. De meeste mensen hebben tegenwoordig wel een mobiel met camera bij zich. Maar toch is dat niet altijd zo geweest. Fotografie bestaat wereldwijd nauwelijks 200 jaar. In Nederland pas sinds ongeveer 1860. En in Coevorden? Fotografie zette hier voet aan wal in de laatste jaren van de 19e eeuw. Een slordige 125 jaar geleden. \nIn de beginjaren van de fotografie zijn het de rondtrekkende fotografen die Coevorden vastleggen. Vanaf 1900 vestigden zich de eerste zelfstandige fotografen in de stad. In ongeveer dezelfde periode vond ook de ontmanteling van de actieve vesting plaats. Toch bestaan er maar weinig afbeeldingen van de wallen\, de poorten\, de kazernen en vooral de Bentheimerpoort met zijn leeuwenkoppen. Kennelijk hadden de fotografen in die tijd oog voor andere zaken. \nIn de tentoonstelling ‘Ik zie\, ik zie\, wat jij niet ziet’ laten we zien welke ontwikkeling de fotografie in Coevorden heeft doorgemaakt. En laten we zien wie de fotografen waren in de vestingstad. En hoe Coevorden de afgelopen 125 jaar is veranderd. Bij de tentoonstelling is een gratis speurtocht voor kinderen. \nDe tentoonstelling ‘Ik zie\, ik zie\, wat jij niet ziet’ is te bezoeken van 31 maart t/m 24 september 2023.
URL:https://stadcoevorden.nl/stadsagenda/tentoonstelling-ik-zie-ik-zie-wat-jij-niet-ziet-2/2023-05-20/
LOCATION:Stedelijk Museum Coevorden\, Haven 4\, Coevorden\, Drenthe\, 7741JV\, Nederland
ATTACH;FMTTYPE=image/jpeg:https://stadcoevorden.nl/wp-content/uploads/2023/04/Beeldmerk-SMC-Ik-zie-ik-zie-wat-jij-niet-ziet-scaled.jpg
ORGANIZER;CN="Stedelijk Museum Coevorden":MAILTO:info@museumcoevorden.nl
END:VEVENT
BEGIN:VEVENT
DTSTART;TZID=Europe/Paris:20230521T120000
DTEND;TZID=Europe/Paris:20230521T170000
DTSTAMP:20260421T121647
CREATED:20230522T131740Z
LAST-MODIFIED:20230522T131740Z
UID:10001268-1684670400-1684688400@stadcoevorden.nl
SUMMARY:Tentoonstelling Ik zie\, ik zie\, wat jij niet ziet
DESCRIPTION:Anno 2023 is het maken van een foto bijna net zo vanzelfsprekend als drinken\, eten en slapen. De meeste mensen hebben tegenwoordig wel een mobiel met camera bij zich. Maar toch is dat niet altijd zo geweest. Fotografie bestaat wereldwijd nauwelijks 200 jaar. In Nederland pas sinds ongeveer 1860. En in Coevorden? Fotografie zette hier voet aan wal in de laatste jaren van de 19e eeuw. Een slordige 125 jaar geleden. \nIn de beginjaren van de fotografie zijn het de rondtrekkende fotografen die Coevorden vastleggen. Vanaf 1900 vestigden zich de eerste zelfstandige fotografen in de stad. In ongeveer dezelfde periode vond ook de ontmanteling van de actieve vesting plaats. Toch bestaan er maar weinig afbeeldingen van de wallen\, de poorten\, de kazernen en vooral de Bentheimerpoort met zijn leeuwenkoppen. Kennelijk hadden de fotografen in die tijd oog voor andere zaken. \nIn de tentoonstelling ‘Ik zie\, ik zie\, wat jij niet ziet’ laten we zien welke ontwikkeling de fotografie in Coevorden heeft doorgemaakt. En laten we zien wie de fotografen waren in de vestingstad. En hoe Coevorden de afgelopen 125 jaar is veranderd. Bij de tentoonstelling is een gratis speurtocht voor kinderen. \nDe tentoonstelling ‘Ik zie\, ik zie\, wat jij niet ziet’ is te bezoeken van 31 maart t/m 24 september 2023. \nFoto: Drents Archief (Collectie Hoekstra)
URL:https://stadcoevorden.nl/stadsagenda/tentoonstelling-ik-zie-ik-zie-wat-jij-niet-ziet/2023-05-21/
LOCATION:Stedelijk Museum Coevorden\, Haven 4\, Coevorden\, Drenthe\, 7741JV\, Nederland
ATTACH;FMTTYPE=image/jpeg:https://stadcoevorden.nl/wp-content/uploads/2023/04/Beeldmerk-SMC-Ik-zie-ik-zie-wat-jij-niet-ziet-1-scaled.jpg
ORGANIZER;CN="Stedelijk Museum Coevorden":MAILTO:info@museumcoevorden.nl
END:VEVENT
END:VCALENDAR